BEGIN:VCALENDAR
VERSION:2.0
PRODID:-//Hi-Level Golf Course - ECPv5.16.3.1//NONSGML v1.0//EN
CALSCALE:GREGORIAN
METHOD:PUBLISH
X-WR-CALNAME:Hi-Level Golf Course
X-ORIGINAL-URL:https://hilevelgc.com
X-WR-CALDESC:Events for Hi-Level Golf Course
REFRESH-INTERVAL;VALUE=DURATION:PT1H
X-Robots-Tag:noindex
X-PUBLISHED-TTL:PT1H
BEGIN:VTIMEZONE
TZID:America/New_York
BEGIN:DAYLIGHT
TZOFFSETFROM:-0500
TZOFFSETTO:-0400
TZNAME:EDT
DTSTART:20230312T070000
END:DAYLIGHT
BEGIN:STANDARD
TZOFFSETFROM:-0400
TZOFFSETTO:-0500
TZNAME:EST
DTSTART:20231105T060000
END:STANDARD
BEGIN:DAYLIGHT
TZOFFSETFROM:-0500
TZOFFSETTO:-0400
TZNAME:EDT
DTSTART:20240310T070000
END:DAYLIGHT
BEGIN:STANDARD
TZOFFSETFROM:-0400
TZOFFSETTO:-0500
TZNAME:EST
DTSTART:20241103T060000
END:STANDARD
END:VTIMEZONE
BEGIN:VEVENT
DTSTART;VALUE=DATE:20240530
DTEND;VALUE=DATE:20240531
DTSTAMP:20260420T215624
CREATED:20240207T103035Z
LAST-MODIFIED:20240207T103035Z
UID:4795-1717027200-1717113599@hilevelgc.com
SUMMARY:Men's League
DESCRIPTION:Call for tee times! \nOver 60 group plays 9 holes between 8:00 a.m.- 10:00 a.m. \nUnder 60 group plays front and back 9 between 3:30 p.m. and 5:30 p.m. \n 
URL:https://hilevelgc.com/event/mens-league-35/
LOCATION:Hi-Level Golf Course\, 148 High Level Lane\, Kossuth\, PA\, 16331\, United States
CATEGORIES:Event
ATTACH;FMTTYPE=image/jpeg:https://hilevelgc.com/wp-content/uploads/2021/04/golf-ball-near-hole.jpg
END:VEVENT
BEGIN:VEVENT
DTSTART;TZID=America/New_York:20240529T090000
DTEND;TZID=America/New_York:20240529T130000
DTSTAMP:20260420T215624
CREATED:20240513T203757Z
LAST-MODIFIED:20240513T203757Z
UID:4829-1716973200-1716987600@hilevelgc.com
SUMMARY:Senior Scramble League
DESCRIPTION:This fun drop in league is open to seniors 60 and over! Just $22 for greens fee and cart and $6 for prizes\, coffee and donuts! Be here by 8:30 to register for the blind draw! For more information call the pro shop at 814-797-1813
URL:https://hilevelgc.com/event/senior-scramble-league-72/
LOCATION:Hi-Level Golf Course\, 148 High Level Lane\, Kossuth\, PA\, 16331\, United States
END:VEVENT
BEGIN:VEVENT
DTSTART;TZID=America/New_York:20240528T173000
DTEND;TZID=America/New_York:20240528T180000
DTSTAMP:20260420T215624
CREATED:20240524T201434Z
LAST-MODIFIED:20240524T201434Z
UID:4837-1716917400-1716919200@hilevelgc.com
SUMMARY:Ladies Scramble League
DESCRIPTION:This fun league plays on Tuesdays starting at 5:30! This week they will play on the back nine.
URL:https://hilevelgc.com/event/ladies-scramble-league/
LOCATION:Hi-Level Golf Course\, 148 High Level Lane\, Kossuth\, PA\, 16331\, United States
END:VEVENT
BEGIN:VEVENT
DTSTART;TZID=America/New_York:20240526T100000
DTEND;TZID=America/New_York:20240526T143000
DTSTAMP:20260420T215624
CREATED:20240501T165753Z
LAST-MODIFIED:20240501T165753Z
UID:4817-1716717600-1716733800@hilevelgc.com
SUMMARY:Jessica Stephen’s Memorial Scramble
DESCRIPTION:
URL:https://hilevelgc.com/event/jessica-stephens-memorial-scramble-2/
LOCATION:Hi-Level Golf Course\, 148 High Level Lane\, Kossuth\, PA\, 16331\, United States
END:VEVENT
BEGIN:VEVENT
DTSTART;VALUE=DATE:20240523
DTEND;VALUE=DATE:20240524
DTSTAMP:20260420T215624
CREATED:20240207T101713Z
LAST-MODIFIED:20240207T101713Z
UID:4793-1716422400-1716508799@hilevelgc.com
SUMMARY:Men's League
DESCRIPTION:Call for tee times! \nOver 60 group plays 9 holes between 8:00 a.m.- 10:00 a.m. \nUnder 60 group plays front and back 9 between 3:30 p.m. and 5:30 p.m.
URL:https://hilevelgc.com/event/mens-league-34/
LOCATION:Hi-Level Golf Course\, 148 High Level Lane\, Kossuth\, PA\, 16331\, United States
CATEGORIES:League
ATTACH;FMTTYPE=image/jpeg:https://hilevelgc.com/wp-content/uploads/2021/04/golf-ball-near-hole.jpg
END:VEVENT
BEGIN:VEVENT
DTSTART;TZID=America/New_York:20240522T090000
DTEND;TZID=America/New_York:20240522T130000
DTSTAMP:20260420T215624
CREATED:20240513T203641Z
LAST-MODIFIED:20240513T203641Z
UID:4827-1716368400-1716382800@hilevelgc.com
SUMMARY:Senior Scramble League
DESCRIPTION:This fun drop in league is open to seniors 60 and over! Just $22 for greens fee and cart and $6 for prizes\, coffee and donuts! Be here by 8:30 to register for the blind draw! For more information call the pro shop at 814-797-1813
URL:https://hilevelgc.com/event/senior-scramble-league-71/
LOCATION:Hi-Level Golf Course\, 148 High Level Lane\, Kossuth\, PA\, 16331\, United States
END:VEVENT
BEGIN:VEVENT
DTSTART;TZID=America/New_York:20240519T090000
DTEND;TZID=America/New_York:20240519T133000
DTSTAMP:20260420T215624
CREATED:20240501T164745Z
LAST-MODIFIED:20240501T164745Z
UID:4815-1716109200-1716125400@hilevelgc.com
SUMMARY:Clarion Eagles Club Scramble
DESCRIPTION:  \n  \nSign up at the Eagles club in Clarion
URL:https://hilevelgc.com/event/clarion-eagles-club-scramble/
LOCATION:Hi-Level Golf Course\, 148 High Level Lane\, Kossuth\, PA\, 16331\, United States
END:VEVENT
BEGIN:VEVENT
DTSTART;TZID=America/New_York:20240518T090000
DTEND;TZID=America/New_York:20240518T140000
DTSTAMP:20260420T215624
CREATED:20240501T164354Z
LAST-MODIFIED:20240501T164354Z
UID:4813-1716022800-1716040800@hilevelgc.com
SUMMARY:Bev Air Scramble
DESCRIPTION:Company outing. Tee times available after 2pm.
URL:https://hilevelgc.com/event/bev-air-scramble/
LOCATION:Hi-Level Golf Course\, 148 High Level Lane\, Kossuth\, PA\, 16331\, United States
END:VEVENT
BEGIN:VEVENT
DTSTART;VALUE=DATE:20240516
DTEND;VALUE=DATE:20240517
DTSTAMP:20260420T215624
CREATED:20240207T101530Z
LAST-MODIFIED:20240207T101530Z
UID:4791-1715817600-1715903999@hilevelgc.com
SUMMARY:Men's League
DESCRIPTION:Call for tee times! \nOver 60 group plays 9 holes between 8:00 a.m.- 10:00 a.m. \nUnder 60 group plays front and back 9 between 3:30 p.m. and 5:30 p.m. \n 
URL:https://hilevelgc.com/event/mens-league-33/
LOCATION:Hi-Level Golf Course\, 148 High Level Lane\, Kossuth\, PA\, 16331\, United States
CATEGORIES:League
ATTACH;FMTTYPE=image/jpeg:https://hilevelgc.com/wp-content/uploads/2021/04/golf-ball-near-hole.jpg
END:VEVENT
BEGIN:VEVENT
DTSTART;TZID=America/New_York:20240515T100000
DTEND;TZID=America/New_York:20240515T140000
DTSTAMP:20260420T215624
CREATED:20240513T201756Z
LAST-MODIFIED:20240513T201756Z
UID:4820-1715767200-1715781600@hilevelgc.com
SUMMARY:Senior Scramble League
DESCRIPTION:  \nThis fun drop in league is open to seniors 60 and over! Just $22 for greens fee and cart and $8 for prizes\, coffee and donuts! Be here by 9:30 to register for the blind draw! For more information call the pro shop at 814-797-1813 \n 
URL:https://hilevelgc.com/event/senior-scramble-league-70/
LOCATION:Hi-Level Golf Course\, 148 High Level Lane\, Kossuth\, PA\, 16331\, United States
END:VEVENT
BEGIN:VEVENT
DTSTART;TZID=America/New_York:20240511T090000
DTEND;TZID=America/New_York:20240511T133000
DTSTAMP:20260420T215624
CREATED:20240501T164212Z
LAST-MODIFIED:20240501T164212Z
UID:4811-1715418000-1715434200@hilevelgc.com
SUMMARY:Tidioute Carter School Bulldog Scramble
DESCRIPTION:Event full. Tee times available after 1:30
URL:https://hilevelgc.com/event/tidioute-carter-school-bulldog-scramble/
LOCATION:Hi-Level Golf Course\, 148 High Level Lane\, Kossuth\, PA\, 16331\, United States
END:VEVENT
BEGIN:VEVENT
DTSTART;VALUE=DATE:20240509
DTEND;VALUE=DATE:20240510
DTSTAMP:20260420T215624
CREATED:20240207T101248Z
LAST-MODIFIED:20240207T102829Z
UID:4789-1715212800-1715299199@hilevelgc.com
SUMMARY:Men's League Begins
DESCRIPTION:Men’s League begins today! Call for tee times! \nOver 60 group plays 9 holes between 8:00 a.m.- 10:00 a.m. \nUnder 60 group plays front and back 9 between 3:30 p.m. and 5:30 p.m. \n 
URL:https://hilevelgc.com/event/mens-league-begins/
LOCATION:Hi-Level Golf Course\, 148 High Level Lane\, Kossuth\, PA\, 16331\, United States
CATEGORIES:League
ATTACH;FMTTYPE=image/jpeg:https://hilevelgc.com/wp-content/uploads/2021/04/golf-ball-near-hole.jpg
END:VEVENT
BEGIN:VEVENT
DTSTART;TZID=America/New_York:20240508T100000
DTEND;TZID=America/New_York:20240508T140000
DTSTAMP:20260420T215624
CREATED:20240423T185755Z
LAST-MODIFIED:20240423T185755Z
UID:4805-1715162400-1715176800@hilevelgc.com
SUMMARY:Senior Scramble League
DESCRIPTION:This fun drop in league is open to seniors 60 and over! Just $22 for greens fee and cart and $8 for prizes\, coffee and donuts! Be here by 9:30 to register for the blind draw! For more information call the pro shop at 814-797-1813
URL:https://hilevelgc.com/event/senior-scramble-league-69/
LOCATION:Hi-Level Golf Course\, 148 High Level Lane\, Kossuth\, PA\, 16331\, United States
END:VEVENT
BEGIN:VEVENT
DTSTART;TZID=America/New_York:20240504T100000
DTEND;TZID=America/New_York:20240504T140000
DTSTAMP:20260420T215624
CREATED:20240501T164031Z
LAST-MODIFIED:20240501T164031Z
UID:4809-1714816800-1714831200@hilevelgc.com
SUMMARY:Mark Divins group
DESCRIPTION:Ca \n  \nCall for tee times
URL:https://hilevelgc.com/event/mark-divins-group/
LOCATION:Hi-Level Golf Course\, 148 High Level Lane\, Kossuth\, PA\, 16331\, United States
END:VEVENT
BEGIN:VEVENT
DTSTART;TZID=America/New_York:20240502T080000
DTEND;TZID=America/New_York:20240502T173000
DTSTAMP:20260420T215624
CREATED:20240423T190519Z
LAST-MODIFIED:20240423T190722Z
UID:4807-1714636800-1714671000@hilevelgc.com
SUMMARY:Men’s League
DESCRIPTION:Men’s League begins today! Call for tee times! \nOver 60 group plays 9 holes between 8:00 a.m.- 10:00 a.m. \nUnder 60 group plays front and back 9 between 3:30 p.m. and 5:30 p.m. \nNo Bull Concessions will be here to sell breakfast sandwiches and coffee in the morning and hot dogs and hot sausage sandwiches in the afternoon and evening every Thursday in May!
URL:https://hilevelgc.com/event/mens-league-36/
LOCATION:Hi-Level Golf Course\, 148 High Level Lane\, Kossuth\, PA\, 16331\, United States
END:VEVENT
BEGIN:VEVENT
DTSTART;TZID=America/New_York:20240501T100000
DTEND;TZID=America/New_York:20240501T140000
DTSTAMP:20260420T215624
CREATED:20240423T185632Z
LAST-MODIFIED:20240423T185632Z
UID:4803-1714557600-1714572000@hilevelgc.com
SUMMARY:Senior Scramble League
DESCRIPTION:This fun drop in league is open to seniors 60 and over! Just $22 for greens fee and cart and $8 for prizes\, coffee and donuts! Be here by 9:30 to register for the blind draw! For more information call the pro shop at 814-797-1813
URL:https://hilevelgc.com/event/senior-scramble-league-68/
LOCATION:Hi-Level Golf Course\, 148 High Level Lane\, Kossuth\, PA\, 16331\, United States
END:VEVENT
BEGIN:VEVENT
DTSTART;TZID=America/New_York:20240424T100000
DTEND;TZID=America/New_York:20240424T140000
DTSTAMP:20260420T215624
CREATED:20240423T185503Z
LAST-MODIFIED:20240423T185503Z
UID:4801-1713952800-1713967200@hilevelgc.com
SUMMARY:Senior Scramble League
DESCRIPTION:This fun drop in league is open to seniors 60 and over! Just $22 for greens fee and cart and $8 for prizes\, coffee and donuts! Be here by 9:30 to register for the blind draw! For more information call the pro shop at 814-797-1813
URL:https://hilevelgc.com/event/senior-scramble-league-67/
LOCATION:Hi-Level Golf Course\, 148 High Level Lane\, Kossuth\, PA\, 16331\, United States
END:VEVENT
BEGIN:VEVENT
DTSTART;TZID=America/New_York:20231022T120000
DTEND;TZID=America/New_York:20231022T160000
DTSTAMP:20260420T215624
CREATED:20230922T143230Z
LAST-MODIFIED:20230922T143230Z
UID:4770-1697976000-1697990400@hilevelgc.com
SUMMARY:Knox Baseball Par 3 Golf Scramble
DESCRIPTION:
URL:https://hilevelgc.com/event/knox-baseball-par-3-golf-scramble/
LOCATION:Hi-Level Golf Course\, 148 High Level Lane\, Kossuth\, PA\, 16331\, United States
END:VEVENT
BEGIN:VEVENT
DTSTART;TZID=America/New_York:20231006T100000
DTEND;TZID=America/New_York:20231006T140000
DTSTAMP:20260420T215624
CREATED:20230922T142704Z
LAST-MODIFIED:20230922T142704Z
UID:4767-1696586400-1696600800@hilevelgc.com
SUMMARY:Gamma Golf Outing
DESCRIPTION:Private event. Call for tee times.
URL:https://hilevelgc.com/event/gamma-golf-outing-2/
LOCATION:Hi-Level Golf Course\, 148 High Level Lane\, Kossuth\, PA\, 16331\, United States
END:VEVENT
BEGIN:VEVENT
DTSTART;TZID=America/New_York:20231005T140000
DTEND;TZID=America/New_York:20231005T163000
DTSTAMP:20260420T215624
CREATED:20230922T142447Z
LAST-MODIFIED:20230922T142447Z
UID:4765-1696514400-1696523400@hilevelgc.com
SUMMARY:Junior High Golf Match
DESCRIPTION:Front nine closed from 2-4:30
URL:https://hilevelgc.com/event/junior-high-golf-match-2/
LOCATION:Hi-Level Golf Course\, 148 High Level Lane\, Kossuth\, PA\, 16331\, United States
END:VEVENT
BEGIN:VEVENT
DTSTART;TZID=America/New_York:20231004T090000
DTEND;TZID=America/New_York:20231004T130000
DTSTAMP:20260420T215624
CREATED:20230905T132014Z
LAST-MODIFIED:20230905T132014Z
UID:4735-1696410000-1696424400@hilevelgc.com
SUMMARY:Senior Scramble League
DESCRIPTION:This fun drop in league is open to seniors 60 and over! Just $22 for greens fee and cart and $8 for prizes\, coffee and donuts! Be here by 8:30 to register for the blind draw! For more information call the pro shop at 814-797-1813
URL:https://hilevelgc.com/event/senior-scramble-league-66/
LOCATION:Hi-Level Golf Course\, 148 High Level Lane\, Kossuth\, PA\, 16331\, United States
END:VEVENT
BEGIN:VEVENT
DTSTART;TZID=America/New_York:20230930T070000
DTEND;TZID=America/New_York:20230930T220000
DTSTAMP:20260420T215624
CREATED:20230905T132745Z
LAST-MODIFIED:20230905T132745Z
UID:4745-1696057200-1696111200@hilevelgc.com
SUMMARY:Ellis and Rachel’s Wedding
DESCRIPTION:Course will be closed today for this special event!
URL:https://hilevelgc.com/event/ellis-and-rachels-wedding/
LOCATION:Hi-Level Golf Course\, 148 High Level Lane\, Kossuth\, PA\, 16331\, United States
END:VEVENT
BEGIN:VEVENT
DTSTART;TZID=America/New_York:20230929T080000
DTEND;TZID=America/New_York:20230929T190000
DTSTAMP:20260420T215624
CREATED:20230922T142048Z
LAST-MODIFIED:20230922T142048Z
UID:4760-1695974400-1696014000@hilevelgc.com
SUMMARY:Ellis and Rachel’s Golf Scramble and Rehearsal Dinner
DESCRIPTION:Golf course closed today
URL:https://hilevelgc.com/event/ellis-and-rachels-golf-scramble-and-rehearsal-dinner/
LOCATION:Hi-Level Golf Course\, 148 High Level Lane\, Kossuth\, PA\, 16331\, United States
END:VEVENT
BEGIN:VEVENT
DTSTART;TZID=America/New_York:20230928T140000
DTEND;TZID=America/New_York:20230928T163000
DTSTAMP:20260420T215624
CREATED:20230922T142302Z
LAST-MODIFIED:20230922T142302Z
UID:4763-1695909600-1695918600@hilevelgc.com
SUMMARY:Junior High Golf Match
DESCRIPTION:Front nine closed from 2-4:30
URL:https://hilevelgc.com/event/junior-high-golf-match/
LOCATION:Hi-Level Golf Course\, 148 High Level Lane\, Kossuth\, PA\, 16331\, United States
END:VEVENT
BEGIN:VEVENT
DTSTART;TZID=America/New_York:20230927T090000
DTEND;TZID=America/New_York:20230927T130000
DTSTAMP:20260420T215624
CREATED:20230905T131841Z
LAST-MODIFIED:20230905T131841Z
UID:4733-1695805200-1695819600@hilevelgc.com
SUMMARY:Senior Scramble League
DESCRIPTION:This fun drop in league is open to seniors 60 and over! Just $22 for greens fee and cart and $8 for prizes\, coffee and donuts! Be here by 8:30 to register for the blind draw! For more information call the pro shop at 814-797-1813
URL:https://hilevelgc.com/event/senior-scramble-league-65/
LOCATION:Hi-Level Golf Course\, 148 High Level Lane\, Kossuth\, PA\, 16331\, United States
END:VEVENT
BEGIN:VEVENT
DTSTART;TZID=America/New_York:20230924T090000
DTEND;TZID=America/New_York:20230924T130000
DTSTAMP:20260420T215624
CREATED:20230922T141652Z
LAST-MODIFIED:20230922T141652Z
UID:4758-1695546000-1695560400@hilevelgc.com
SUMMARY:Couple’s Scramble call for tee times
DESCRIPTION:
URL:https://hilevelgc.com/event/couples-scramble-call-for-tee-times/
LOCATION:Hi-Level Golf Course\, 148 High Level Lane\, Kossuth\, PA\, 16331\, United States
END:VEVENT
BEGIN:VEVENT
DTSTART;TZID=America/New_York:20230923T090000
DTEND;TZID=America/New_York:20230923T130000
DTSTAMP:20260420T215624
CREATED:20230922T140928Z
LAST-MODIFIED:20230922T140928Z
UID:4753-1695459600-1695474000@hilevelgc.com
SUMMARY:United Forest Products golf outing
DESCRIPTION:Shotgun on front nine. Call for tee times
URL:https://hilevelgc.com/event/united-forest-products-golf-outing/
LOCATION:Hi-Level Golf Course\, 148 High Level Lane\, Kossuth\, PA\, 16331\, United States
END:VEVENT
BEGIN:VEVENT
DTSTART;TZID=America/New_York:20230920T090000
DTEND;TZID=America/New_York:20230920T130000
DTSTAMP:20260420T215624
CREATED:20230905T131741Z
LAST-MODIFIED:20230905T131741Z
UID:4731-1695200400-1695214800@hilevelgc.com
SUMMARY:Senior Scramble League
DESCRIPTION:This fun drop in league is open to seniors 60 and over! Just $22 for greens fee and cart and $8 for prizes\, coffee and donuts! Be here by 8:30 to register for the blind draw! For more information call the pro shop at 814-797-1813
URL:https://hilevelgc.com/event/senior-scramble-league-64/
LOCATION:Hi-Level Golf Course\, 148 High Level Lane\, Kossuth\, PA\, 16331\, United States
END:VEVENT
BEGIN:VEVENT
DTSTART;TZID=America/New_York:20230917T090000
DTEND;TZID=America/New_York:20230917T140000
DTSTAMP:20260420T215624
CREATED:20230915T235350Z
LAST-MODIFIED:20230915T235350Z
UID:4751-1694941200-1694959200@hilevelgc.com
SUMMARY:Knox Lions Golf Scramble
DESCRIPTION:Event is full. Tee times available after 2.
URL:https://hilevelgc.com/event/knox-lions-golf-scramble/
LOCATION:Hi-Level Golf Course\, 148 High Level Lane\, Kossuth\, PA\, 16331\, United States
END:VEVENT
BEGIN:VEVENT
DTSTART;TZID=America/New_York:20230916T140000
DTEND;TZID=America/New_York:20230916T183000
DTSTAMP:20260420T215624
CREATED:20230915T235246Z
LAST-MODIFIED:20230915T235246Z
UID:4749-1694872800-1694889000@hilevelgc.com
SUMMARY:JTA Golf Scramble
DESCRIPTION:Event is full
URL:https://hilevelgc.com/event/jta-golf-scramble/
LOCATION:Hi-Level Golf Course\, 148 High Level Lane\, Kossuth\, PA\, 16331\, United States
END:VEVENT
END:VCALENDAR