BEGIN:VCALENDAR
VERSION:2.0
PRODID:-//Hi-Level Golf Course - ECPv5.16.3.1//NONSGML v1.0//EN
CALSCALE:GREGORIAN
METHOD:PUBLISH
X-WR-CALNAME:Hi-Level Golf Course
X-ORIGINAL-URL:https://hilevelgc.com
X-WR-CALDESC:Events for Hi-Level Golf Course
REFRESH-INTERVAL;VALUE=DURATION:PT1H
X-Robots-Tag:noindex
X-PUBLISHED-TTL:PT1H
BEGIN:VTIMEZONE
TZID:America/New_York
BEGIN:DAYLIGHT
TZOFFSETFROM:-0500
TZOFFSETTO:-0400
TZNAME:EDT
DTSTART:20220313T070000
END:DAYLIGHT
BEGIN:STANDARD
TZOFFSETFROM:-0400
TZOFFSETTO:-0500
TZNAME:EST
DTSTART:20221106T060000
END:STANDARD
BEGIN:DAYLIGHT
TZOFFSETFROM:-0500
TZOFFSETTO:-0400
TZNAME:EDT
DTSTART:20230312T070000
END:DAYLIGHT
BEGIN:STANDARD
TZOFFSETFROM:-0400
TZOFFSETTO:-0500
TZNAME:EST
DTSTART:20231105T060000
END:STANDARD
END:VTIMEZONE
BEGIN:VEVENT
DTSTART;TZID=America/New_York:20230611T083000
DTEND;TZID=America/New_York:20230611T090000
DTSTAMP:20260425T110526
CREATED:20230608T155922Z
LAST-MODIFIED:20230608T155922Z
UID:4600-1686472200-1686474000@hilevelgc.com
SUMMARY:Cyphert group/call for tee times
DESCRIPTION:Cyphert group 8:30\nCall for tee times
URL:https://hilevelgc.com/event/cyphert-group-call-for-tee-times/
LOCATION:Hi-Level Golf Course\, 148 High Level Lane\, Kossuth\, PA\, 16331\, United States
END:VEVENT
BEGIN:VEVENT
DTSTART;TZID=America/New_York:20230610T090000
DTEND;TZID=America/New_York:20230610T133000
DTSTAMP:20260425T110526
CREATED:20230608T155733Z
LAST-MODIFIED:20230608T155733Z
UID:4597-1686387600-1686403800@hilevelgc.com
SUMMARY:Venango County Coon and Fox Club Scramble
DESCRIPTION:
URL:https://hilevelgc.com/event/venango-county-coon-and-fox-club-scramble/
LOCATION:Hi-Level Golf Course\, 148 High Level Lane\, Kossuth\, PA\, 16331\, United States
END:VEVENT
BEGIN:VEVENT
DTSTART;TZID=America/New_York:20230609T100000
DTEND;TZID=America/New_York:20230609T143000
DTSTAMP:20260425T110526
CREATED:20230608T155259Z
LAST-MODIFIED:20230608T155259Z
UID:4594-1686304800-1686321000@hilevelgc.com
SUMMARY:VARHA GOLF SCRAMBLE
DESCRIPTION:
URL:https://hilevelgc.com/event/varha-golf-scramble/
LOCATION:Hi-Level Golf Course\, 148 High Level Lane\, Kossuth\, PA\, 16331\, United States
END:VEVENT
BEGIN:VEVENT
DTSTART;TZID=America/New_York:20230608T080000
DTEND;TZID=America/New_York:20230608T170000
DTSTAMP:20260425T110526
CREATED:20230506T142555Z
LAST-MODIFIED:20230506T142555Z
UID:4539-1686211200-1686243600@hilevelgc.com
SUMMARY:Men’s League
DESCRIPTION:Call for tee times! Over 60 group plays 9 holes between 8-10 am and Under 60 group plays front and back 9 between 3:30 and 5:30.
URL:https://hilevelgc.com/event/mens-league-22/
LOCATION:Hi-Level Golf Course\, 148 High Level Lane\, Kossuth\, PA\, 16331\, United States
END:VEVENT
BEGIN:VEVENT
DTSTART;TZID=America/New_York:20230607T090000
DTEND;TZID=America/New_York:20230607T130000
DTSTAMP:20260425T110526
CREATED:20230513T134248Z
LAST-MODIFIED:20230513T134248Z
UID:4571-1686128400-1686142800@hilevelgc.com
SUMMARY:Senior Scramble League
DESCRIPTION:This fun drop in league is open to seniors 60 and over! Just $22 for greens fee and cart and $8 for prizes\, coffee and donuts! Be here by 8:30 to register for the blind draw! For more information call the pro shop at 814-797-1813
URL:https://hilevelgc.com/event/senior-scramble-league-52/
LOCATION:Hi-Level Golf Course\, 148 High Level Lane\, Kossuth\, PA\, 16331\, United States
END:VEVENT
BEGIN:VEVENT
DTSTART;TZID=America/New_York:20230601T080000
DTEND;TZID=America/New_York:20230601T170000
DTSTAMP:20260425T110526
CREATED:20230506T142501Z
LAST-MODIFIED:20230506T142501Z
UID:4537-1685606400-1685638800@hilevelgc.com
SUMMARY:Men’s League
DESCRIPTION:Call for tee times! Over 60 group plays 9 holes between 8-10 am and Under 60 group plays front and back 9 between 3:30 and 5:30.
URL:https://hilevelgc.com/event/mens-league-21/
LOCATION:Hi-Level Golf Course\, 148 High Level Lane\, Kossuth\, PA\, 16331\, United States
END:VEVENT
BEGIN:VEVENT
DTSTART;TZID=America/New_York:20230531T090000
DTEND;TZID=America/New_York:20230531T130000
DTSTAMP:20260425T110526
CREATED:20230510T152943Z
LAST-MODIFIED:20230510T152943Z
UID:4549-1685523600-1685538000@hilevelgc.com
SUMMARY:Senior Scramble League
DESCRIPTION:This fun drop in league is open to seniors 60 and over! Just $22 for greens fee and cart and $8 for prizes\, coffee and donuts! Be here by 8:30 to register for the blind draw! For more information call the pro shop at 814-797-1813
URL:https://hilevelgc.com/event/senior-scramble-league-47/
LOCATION:Hi-Level Golf Course\, 148 High Level Lane\, Kossuth\, PA\, 16331\, United States
END:VEVENT
BEGIN:VEVENT
DTSTART;TZID=America/New_York:20230529T073000
DTEND;TZID=America/New_York:20230529T193000
DTSTAMP:20260425T110526
CREATED:20230522T142053Z
LAST-MODIFIED:20230522T142053Z
UID:4592-1685345400-1685388600@hilevelgc.com
SUMMARY:Open for tee times
DESCRIPTION:Get out and enjoy this holiday weekend! Call for tee times.
URL:https://hilevelgc.com/event/open-for-tee-times-2/
LOCATION:Hi-Level Golf Course\, 148 High Level Lane\, Kossuth\, PA\, 16331\, United States
END:VEVENT
BEGIN:VEVENT
DTSTART;TZID=America/New_York:20230528T090000
DTEND;TZID=America/New_York:20230528T133000
DTSTAMP:20260425T110526
CREATED:20230510T165304Z
LAST-MODIFIED:20230510T165304Z
UID:4560-1685264400-1685280600@hilevelgc.com
SUMMARY:Jessica Stephens Memorial Golf Scramble
DESCRIPTION:
URL:https://hilevelgc.com/event/jessica-stephens-memorial-golf-scramble/
LOCATION:Hi-Level Golf Course\, 148 High Level Lane\, Kossuth\, PA\, 16331\, United States
END:VEVENT
BEGIN:VEVENT
DTSTART;TZID=America/New_York:20230527T073000
DTEND;TZID=America/New_York:20230527T193000
DTSTAMP:20260425T110526
CREATED:20230522T141926Z
LAST-MODIFIED:20230522T141926Z
UID:4590-1685172600-1685215800@hilevelgc.com
SUMMARY:Open for tee times
DESCRIPTION:Get out and enjoy this holiday weekend! Call for tee times.
URL:https://hilevelgc.com/event/open-for-tee-times/
LOCATION:Hi-Level Golf Course\, 148 High Level Lane\, Kossuth\, PA\, 16331\, United States
END:VEVENT
BEGIN:VEVENT
DTSTART;TZID=America/New_York:20230526T100000
DTEND;TZID=America/New_York:20230526T140000
DTSTAMP:20260425T110526
CREATED:20230522T135752Z
LAST-MODIFIED:20230522T135752Z
UID:4587-1685095200-1685109600@hilevelgc.com
SUMMARY:Clarion Chamber Golf Scramble
DESCRIPTION:
URL:https://hilevelgc.com/event/clarion-chamber-golf-scramble/
LOCATION:Hi-Level Golf Course\, 148 High Level Lane\, Kossuth\, PA\, 16331\, United States
END:VEVENT
BEGIN:VEVENT
DTSTART;TZID=America/New_York:20230525T080000
DTEND;TZID=America/New_York:20230525T170000
DTSTAMP:20260425T110526
CREATED:20230506T142155Z
LAST-MODIFIED:20230506T142155Z
UID:4533-1685001600-1685034000@hilevelgc.com
SUMMARY:Men’s League
DESCRIPTION:Call for tee times! Over 60 group plays 9 holes between 8-10 am and Under 60 group plays front and back 9 between 3:30 and 5:30.
URL:https://hilevelgc.com/event/mens-league-19/
LOCATION:Hi-Level Golf Course\, 148 High Level Lane\, Kossuth\, PA\, 16331\, United States
END:VEVENT
BEGIN:VEVENT
DTSTART;TZID=America/New_York:20230524T090000
DTEND;TZID=America/New_York:20230524T130000
DTSTAMP:20260425T110526
CREATED:20230510T152736Z
LAST-MODIFIED:20230510T152736Z
UID:4547-1684918800-1684933200@hilevelgc.com
SUMMARY:Senior Scramble League
DESCRIPTION:This fun drop in league is open to seniors 60 and over! Just $22 for greens fee and cart and $8 for prizes\, coffee and donuts! Be here by 8:30 to register for the blind draw! For more information call the pro shop at 814-797-1813
URL:https://hilevelgc.com/event/senior-scramble-league-46/
LOCATION:Hi-Level Golf Course\, 148 High Level Lane\, Kossuth\, PA\, 16331\, United States
END:VEVENT
BEGIN:VEVENT
DTSTART;TZID=America/New_York:20230521T090000
DTEND;TZID=America/New_York:20230521T133000
DTSTAMP:20260425T110526
CREATED:20230510T153214Z
LAST-MODIFIED:20230510T153214Z
UID:4551-1684659600-1684675800@hilevelgc.com
SUMMARY:Clarion Eagles Scramble
DESCRIPTION:Sign up at the Eagles in Clarion. Course closed till 1:30.
URL:https://hilevelgc.com/event/clarion-eagles-scramble-2/
LOCATION:Hi-Level Golf Course\, 148 High Level Lane\, Kossuth\, PA\, 16331\, United States
END:VEVENT
BEGIN:VEVENT
DTSTART;TZID=America/New_York:20230520T090000
DTEND;TZID=America/New_York:20230520T133000
DTSTAMP:20260425T110526
CREATED:20230510T153346Z
LAST-MODIFIED:20230510T153346Z
UID:4553-1684573200-1684589400@hilevelgc.com
SUMMARY:Beverage Air Golf Outing
DESCRIPTION:Private group. Course closed till 1:30.
URL:https://hilevelgc.com/event/beverage-air-golf-outing-3/
LOCATION:Hi-Level Golf Course\, 148 High Level Lane\, Kossuth\, PA\, 16331\, United States
END:VEVENT
BEGIN:VEVENT
DTSTART;TZID=America/New_York:20230518T080000
DTEND;TZID=America/New_York:20230518T170000
DTSTAMP:20260425T110526
CREATED:20230506T142043Z
LAST-MODIFIED:20230506T142043Z
UID:4531-1684396800-1684429200@hilevelgc.com
SUMMARY:Men’s League
DESCRIPTION:Call for tee times! Over 60 group plays 9 holes between 8-10 am and Under 60 group plays front and back 9 between 3:30 and 5:30.
URL:https://hilevelgc.com/event/mens-league-18/
LOCATION:Hi-Level Golf Course\, 148 High Level Lane\, Kossuth\, PA\, 16331\, United States
END:VEVENT
BEGIN:VEVENT
DTSTART;TZID=America/New_York:20230517T090000
DTEND;TZID=America/New_York:20230517T130000
DTSTAMP:20260425T110526
CREATED:20230510T152621Z
LAST-MODIFIED:20230510T152621Z
UID:4545-1684314000-1684328400@hilevelgc.com
SUMMARY:Senior Scramble League
DESCRIPTION:This fun drop in league is open to seniors 60 and over! Just $22 for greens fee and cart and $8 for prizes\, coffee and donuts! Be here by 8:30 to register for the blind draw! For more information call the pro shop at 814-797-1813
URL:https://hilevelgc.com/event/senior-scramble-league-45/
LOCATION:Hi-Level Golf Course\, 148 High Level Lane\, Kossuth\, PA\, 16331\, United States
END:VEVENT
BEGIN:VEVENT
DTSTART;TZID=America/New_York:20230513T090000
DTEND;TZID=America/New_York:20230513T133000
DTSTAMP:20260425T110526
CREATED:20230510T152421Z
LAST-MODIFIED:20230510T152421Z
UID:4543-1683968400-1683984600@hilevelgc.com
SUMMARY:Tidioute Charter School Scramble
DESCRIPTION:Event is full. Course open after 1:30.
URL:https://hilevelgc.com/event/tidioute-charter-school-scramble/
LOCATION:Hi-Level Golf Course\, 148 High Level Lane\, Kossuth\, PA\, 16331\, United States
END:VEVENT
BEGIN:VEVENT
DTSTART;TZID=America/New_York:20230511T080000
DTEND;TZID=America/New_York:20230511T170000
DTSTAMP:20260425T110526
CREATED:20230506T142352Z
LAST-MODIFIED:20230506T142352Z
UID:4535-1683792000-1683824400@hilevelgc.com
SUMMARY:Men’s League
DESCRIPTION:Call for tee times! Over 60 group plays 9 holes between 8-10 am and Under 60 group plays front and back 9 between 3:30 and 5:30.
URL:https://hilevelgc.com/event/mens-league-20/
LOCATION:Hi-Level Golf Course\, 148 High Level Lane\, Kossuth\, PA\, 16331\, United States
END:VEVENT
BEGIN:VEVENT
DTSTART;TZID=America/New_York:20230510T100000
DTEND;TZID=America/New_York:20230510T140000
DTSTAMP:20260425T110526
CREATED:20230506T135344Z
LAST-MODIFIED:20230506T135344Z
UID:4524-1683712800-1683727200@hilevelgc.com
SUMMARY:Senior Scramble League
DESCRIPTION:This fun drop in league is open to seniors 60 and over! Just $22 for greens fee and cart and $8 for prizes\, coffee and donuts! Be here by 9:30 to register for the blind draw! For more information call the pro shop at 814-797-1813
URL:https://hilevelgc.com/event/senior-scramble-league-44/
LOCATION:Hi-Level Golf Course\, 148 High Level Lane\, Kossuth\, PA\, 16331\, United States
END:VEVENT
BEGIN:VEVENT
DTSTART;TZID=America/New_York:20230506T100000
DTEND;TZID=America/New_York:20230506T140000
DTSTAMP:20260425T110526
CREATED:20230506T135438Z
LAST-MODIFIED:20230506T135537Z
UID:4526-1683367200-1683381600@hilevelgc.com
SUMMARY:Divine Group
DESCRIPTION:Call for tee times
URL:https://hilevelgc.com/event/divins-group/
LOCATION:Hi-Level Golf Course\, 148 High Level Lane\, Kossuth\, PA\, 16331\, United States
END:VEVENT
BEGIN:VEVENT
DTSTART;TZID=America/New_York:20230412T100000
DTEND;TZID=America/New_York:20230412T140000
DTSTAMP:20260425T110526
CREATED:20230411T192150Z
LAST-MODIFIED:20230411T192150Z
UID:4521-1681293600-1681308000@hilevelgc.com
SUMMARY:Senior Scramble League
DESCRIPTION:This fun drop in league is open to seniors 60 and over! Just $22 for greens fee and cart and $8 for prizes\, coffee and donuts! Be here by 9:30 to register for the blind draw! For more information call the pro shop at 814-797-1813
URL:https://hilevelgc.com/event/senior-scramble-league-43/
LOCATION:Hi-Level Golf Course\, 148 High Level Lane\, Kossuth\, PA\, 16331\, United States
END:VEVENT
BEGIN:VEVENT
DTSTART;TZID=America/New_York:20221001T090000
DTEND;TZID=America/New_York:20221001T130000
DTSTAMP:20260425T110526
CREATED:20220830T173712Z
LAST-MODIFIED:20220830T173712Z
UID:4499-1664614800-1664629200@hilevelgc.com
SUMMARY:Parker VFW golf outing
DESCRIPTION:Course closed till 1pm
URL:https://hilevelgc.com/event/parker-vfw-golf-outing/
LOCATION:Hi-Level Golf Course\, 148 High Level Lane\, Kossuth\, PA\, 16331\, United States
END:VEVENT
BEGIN:VEVENT
DTSTART;TZID=America/New_York:20220930T100000
DTEND;TZID=America/New_York:20220930T140000
DTSTAMP:20260425T110526
CREATED:20220830T173602Z
LAST-MODIFIED:20220830T173602Z
UID:4497-1664532000-1664546400@hilevelgc.com
SUMMARY:Gamma golf outing
DESCRIPTION:Course closed till 2pm
URL:https://hilevelgc.com/event/gamma-golf-outing/
LOCATION:Hi-Level Golf Course\, 148 High Level Lane\, Kossuth\, PA\, 16331\, United States
END:VEVENT
BEGIN:VEVENT
DTSTART;TZID=America/New_York:20220929T140000
DTEND;TZID=America/New_York:20220929T160000
DTSTAMP:20260425T110526
CREATED:20220830T173457Z
LAST-MODIFIED:20220830T173457Z
UID:4495-1664460000-1664467200@hilevelgc.com
SUMMARY:JR HS golf match
DESCRIPTION:Front nine closed from 2-4
URL:https://hilevelgc.com/event/jr-hs-golf-match/
LOCATION:Hi-Level Golf Course\, 148 High Level Lane\, Kossuth\, PA\, 16331\, United States
END:VEVENT
BEGIN:VEVENT
DTSTART;TZID=America/New_York:20220928T090000
DTEND;TZID=America/New_York:20220928T130000
DTSTAMP:20260425T110526
CREATED:20220905T213713Z
LAST-MODIFIED:20220905T213713Z
UID:4512-1664355600-1664370000@hilevelgc.com
SUMMARY:Senior Scramble League
DESCRIPTION:This fun drop in league is open to seniors 60 and over! Just $22 for greens fee and cart and $8 for prizes\, coffee and donuts! Be here by 8:30 to register for the blind draw! For more information call the pro shop at 814-797-1813
URL:https://hilevelgc.com/event/senior-scramble-league-42/
LOCATION:Hi-Level Golf Course\, 148 High Level Lane\, Kossuth\, PA\, 16331\, United States
END:VEVENT
BEGIN:VEVENT
DTSTART;TZID=America/New_York:20220927T160000
DTEND;TZID=America/New_York:20220927T180000
DTSTAMP:20260425T110526
CREATED:20220830T173345Z
LAST-MODIFIED:20220830T173345Z
UID:4493-1664294400-1664301600@hilevelgc.com
SUMMARY:Girls HS golf match
DESCRIPTION:Front 9 closed from 4-6
URL:https://hilevelgc.com/event/girls-hs-golf-match-2/
LOCATION:Hi-Level Golf Course\, 148 High Level Lane\, Kossuth\, PA\, 16331\, United States
END:VEVENT
BEGIN:VEVENT
DTSTART;TZID=America/New_York:20220925T080000
DTEND;TZID=America/New_York:20220925T140000
DTSTAMP:20260425T110526
CREATED:20220905T214606Z
LAST-MODIFIED:20220905T214606Z
UID:4514-1664092800-1664114400@hilevelgc.com
SUMMARY:Hi-Level Ryder Cup Challenge
DESCRIPTION:
URL:https://hilevelgc.com/event/hi-level-ryder-cup-challenge-2/
LOCATION:Hi-Level Golf Course\, 148 High Level Lane\, Kossuth\, PA\, 16331\, United States
END:VEVENT
BEGIN:VEVENT
DTSTART;TZID=America/New_York:20220924T090000
DTEND;TZID=America/New_York:20220924T133000
DTSTAMP:20260425T110526
CREATED:20220830T171643Z
LAST-MODIFIED:20220830T171643Z
UID:4473-1664010000-1664026200@hilevelgc.com
SUMMARY:Venango Region Catholic School
DESCRIPTION:
URL:https://hilevelgc.com/event/venango-region-catholic-school/
LOCATION:Hi-Level Golf Course\, 148 High Level Lane\, Kossuth\, PA\, 16331\, United States
END:VEVENT
BEGIN:VEVENT
DTSTART;TZID=America/New_York:20220921T090000
DTEND;TZID=America/New_York:20220921T130000
DTSTAMP:20260425T110526
CREATED:20220905T213602Z
LAST-MODIFIED:20220905T213602Z
UID:4510-1663750800-1663765200@hilevelgc.com
SUMMARY:Senior Scramble League
DESCRIPTION:This fun drop in league is open to seniors 60 and over! Just $22 for greens fee and cart and $8 for prizes\, coffee and donuts! Be here by 8:30 to register for the blind draw! For more information call the pro shop at 814-797-1813
URL:https://hilevelgc.com/event/senior-scramble-league-41/
LOCATION:Hi-Level Golf Course\, 148 High Level Lane\, Kossuth\, PA\, 16331\, United States
END:VEVENT
END:VCALENDAR