BEGIN:VCALENDAR
VERSION:2.0
PRODID:-//Hi-Level Golf Course - ECPv5.16.3.1//NONSGML v1.0//EN
CALSCALE:GREGORIAN
METHOD:PUBLISH
X-WR-CALNAME:Hi-Level Golf Course
X-ORIGINAL-URL:https://hilevelgc.com
X-WR-CALDESC:Events for Hi-Level Golf Course
REFRESH-INTERVAL;VALUE=DURATION:PT1H
X-Robots-Tag:noindex
X-PUBLISHED-TTL:PT1H
BEGIN:VTIMEZONE
TZID:America/New_York
BEGIN:DAYLIGHT
TZOFFSETFROM:-0500
TZOFFSETTO:-0400
TZNAME:EDT
DTSTART:20230312T070000
END:DAYLIGHT
BEGIN:STANDARD
TZOFFSETFROM:-0400
TZOFFSETTO:-0500
TZNAME:EST
DTSTART:20231105T060000
END:STANDARD
END:VTIMEZONE
BEGIN:VEVENT
DTSTART;TZID=America/New_York:20230722T090000
DTEND;TZID=America/New_York:20230722T140000
DTSTAMP:20260423T131957
CREATED:20230715T150227Z
LAST-MODIFIED:20230715T150227Z
UID:4656-1690016400-1690034400@hilevelgc.com
SUMMARY:Chase Longo Memerial
DESCRIPTION:
URL:https://hilevelgc.com/event/chase-longo-memerial/
LOCATION:Hi-Level Golf Course\, 148 High Level Lane\, Kossuth\, PA\, 16331\, United States
END:VEVENT
BEGIN:VEVENT
DTSTART;TZID=America/New_York:20230720T080000
DTEND;TZID=America/New_York:20230720T170000
DTSTAMP:20260423T131957
CREATED:20230625T205007Z
LAST-MODIFIED:20230625T205007Z
UID:4646-1689840000-1689872400@hilevelgc.com
SUMMARY:Men’s League
DESCRIPTION:Call for tee times! Over 60 group plays 9 holes between 8-10 am and Under 60 group plays front and back 9 between 3:30 and 5:30.
URL:https://hilevelgc.com/event/mens-league-28/
LOCATION:Hi-Level Golf Course\, 148 High Level Lane\, Kossuth\, PA\, 16331\, United States
END:VEVENT
BEGIN:VEVENT
DTSTART;TZID=America/New_York:20230719T090000
DTEND;TZID=America/New_York:20230719T130000
DTSTAMP:20260423T131957
CREATED:20230513T134717Z
LAST-MODIFIED:20230513T134717Z
UID:4577-1689757200-1689771600@hilevelgc.com
SUMMARY:Senior Scramble League
DESCRIPTION:This fun drop in league is open to seniors 60 and over! Just $22 for greens fee and cart and $8 for prizes\, coffee and donuts! Be here by 8:30 to register for the blind draw! For more information call the pro shop at 814-797-1813
URL:https://hilevelgc.com/event/senior-scramble-league-55/
LOCATION:Hi-Level Golf Course\, 148 High Level Lane\, Kossuth\, PA\, 16331\, United States
END:VEVENT
BEGIN:VEVENT
DTSTART;TZID=America/New_York:20230716T140000
DTEND;TZID=America/New_York:20230716T180000
DTSTAMP:20260423T131957
CREATED:20230715T145916Z
LAST-MODIFIED:20230715T145916Z
UID:4654-1689516000-1689530400@hilevelgc.com
SUMMARY:K of C Emlenton Golf Scramble
DESCRIPTION:2pm start\n$70 per player\nCall Ken 814-758-5377 to register or register online\nhttps://charity golf today.com/sponsor?e=5902&ce=e5743e
URL:https://hilevelgc.com/event/k-of-c-emlenton-golf-scramble-2/
LOCATION:Hi-Level Golf Course\, 148 High Level Lane\, Kossuth\, PA\, 16331\, United States
END:VEVENT
BEGIN:VEVENT
DTSTART;TZID=America/New_York:20230716T090000
DTEND;TZID=America/New_York:20230716T130000
DTSTAMP:20260423T131957
CREATED:20230715T144933Z
LAST-MODIFIED:20230715T144933Z
UID:4652-1689498000-1689512400@hilevelgc.com
SUMMARY:Son’s of Legion Golf Outing
DESCRIPTION:9am shotgun. Event is full
URL:https://hilevelgc.com/event/sons-of-legion-golf-outing/
LOCATION:Hi-Level Golf Course\, 148 High Level Lane\, Kossuth\, PA\, 16331\, United States
END:VEVENT
BEGIN:VEVENT
DTSTART;TZID=America/New_York:20230715T090000
DTEND;TZID=America/New_York:20230715T133000
DTSTAMP:20260423T131957
CREATED:20230625T203422Z
LAST-MODIFIED:20230625T203422Z
UID:4631-1689411600-1689427800@hilevelgc.com
SUMMARY:Clarion County Shriners Golf Scramble
DESCRIPTION:
URL:https://hilevelgc.com/event/clarion-county-shriners-golf-scramble/
LOCATION:Hi-Level Golf Course\, 148 High Level Lane\, Kossuth\, PA\, 16331\, United States
END:VEVENT
BEGIN:VEVENT
DTSTART;TZID=America/New_York:20230714T080000
DTEND;TZID=America/New_York:20230714T103000
DTSTAMP:20260423T131957
CREATED:20230625T204617Z
LAST-MODIFIED:20230625T204617Z
UID:4640-1689321600-1689330600@hilevelgc.com
SUMMARY:Camp Iron open
DESCRIPTION:Call for tee times
URL:https://hilevelgc.com/event/camp-iron-open-2/
LOCATION:Hi-Level Golf Course\, 148 High Level Lane\, Kossuth\, PA\, 16331\, United States
END:VEVENT
BEGIN:VEVENT
DTSTART;TZID=America/New_York:20230713T080000
DTEND;TZID=America/New_York:20230713T170000
DTSTAMP:20260423T131957
CREATED:20230625T204849Z
LAST-MODIFIED:20230625T204849Z
UID:4644-1689235200-1689267600@hilevelgc.com
SUMMARY:Men’s League
DESCRIPTION:Call for tee times! Over 60 group plays 9 holes between 8-10 am and Under 60 group plays front and back 9 between 3:30 and 5:30.
URL:https://hilevelgc.com/event/mens-league-27/
LOCATION:Hi-Level Golf Course\, 148 High Level Lane\, Kossuth\, PA\, 16331\, United States
END:VEVENT
BEGIN:VEVENT
DTSTART;TZID=America/New_York:20230712T090000
DTEND;TZID=America/New_York:20230712T130000
DTSTAMP:20260423T131957
CREATED:20230513T134529Z
LAST-MODIFIED:20230513T134529Z
UID:4575-1689152400-1689166800@hilevelgc.com
SUMMARY:Senior Scramble League
DESCRIPTION:This fun drop in league is open to seniors 60 and over! Just $22 for greens fee and cart and $8 for prizes\, coffee and donuts! Be here by 8:30 to register for the blind draw! For more information call the pro shop at 814-797-1813
URL:https://hilevelgc.com/event/senior-scramble-league-54/
LOCATION:Hi-Level Golf Course\, 148 High Level Lane\, Kossuth\, PA\, 16331\, United States
END:VEVENT
BEGIN:VEVENT
DTSTART;TZID=America/New_York:20230709T090000
DTEND;TZID=America/New_York:20230709T133000
DTSTAMP:20260423T131957
CREATED:20230510T154629Z
LAST-MODIFIED:20230510T154629Z
UID:4555-1688893200-1688909400@hilevelgc.com
SUMMARY:Keystone Golf “Bad Pants” Scramble
DESCRIPTION:
URL:https://hilevelgc.com/event/keystone-golf-bad-pants-scramble/
LOCATION:Hi-Level Golf Course\, 148 High Level Lane\, Kossuth\, PA\, 16331\, United States
END:VEVENT
BEGIN:VEVENT
DTSTART;TZID=America/New_York:20230708T090000
DTEND;TZID=America/New_York:20230708T133000
DTSTAMP:20260423T131957
CREATED:20230625T203039Z
LAST-MODIFIED:20230625T203039Z
UID:4628-1688806800-1688823000@hilevelgc.com
SUMMARY:Cheryl Phythyon Memorial
DESCRIPTION:
URL:https://hilevelgc.com/event/cheryl-phythyon-memorial-2/
LOCATION:Hi-Level Golf Course\, 148 High Level Lane\, Kossuth\, PA\, 16331\, United States
END:VEVENT
BEGIN:VEVENT
DTSTART;TZID=America/New_York:20230706T080000
DTEND;TZID=America/New_York:20230706T170000
DTSTAMP:20260423T131957
CREATED:20230625T204749Z
LAST-MODIFIED:20230625T204749Z
UID:4642-1688630400-1688662800@hilevelgc.com
SUMMARY:Men’s League
DESCRIPTION:Call for tee times! Over 60 group plays 9 holes between 8-10 am and Under 60 group plays front and back 9 between 3:30 and 5:30.
URL:https://hilevelgc.com/event/mens-league-26/
LOCATION:Hi-Level Golf Course\, 148 High Level Lane\, Kossuth\, PA\, 16331\, United States
END:VEVENT
BEGIN:VEVENT
DTSTART;TZID=America/New_York:20230705T090000
DTEND;TZID=America/New_York:20230705T130000
DTSTAMP:20260423T131957
CREATED:20230513T134433Z
LAST-MODIFIED:20230513T134433Z
UID:4573-1688547600-1688562000@hilevelgc.com
SUMMARY:Senior Scramble League
DESCRIPTION:This fun drop in league is open to seniors 60 and over! Just $22 for greens fee and cart and $8 for prizes\, coffee and donuts! Be here by 8:30 to register for the blind draw! For more information call the pro shop at 814-797-1813
URL:https://hilevelgc.com/event/senior-scramble-league-53/
LOCATION:Hi-Level Golf Course\, 148 High Level Lane\, Kossuth\, PA\, 16331\, United States
END:VEVENT
BEGIN:VEVENT
DTSTART;TZID=America/New_York:20230703T170000
DTEND;TZID=America/New_York:20230703T193000
DTSTAMP:20260423T131957
CREATED:20230625T202755Z
LAST-MODIFIED:20230625T202755Z
UID:4625-1688403600-1688412600@hilevelgc.com
SUMMARY:Trixx Open
DESCRIPTION:
URL:https://hilevelgc.com/event/trixx-open-2/
LOCATION:Hi-Level Golf Course\, 148 High Level Lane\, Kossuth\, PA\, 16331\, United States
END:VEVENT
BEGIN:VEVENT
DTSTART;TZID=America/New_York:20230701T100000
DTEND;TZID=America/New_York:20230701T113000
DTSTAMP:20260423T131957
CREATED:20230625T195453Z
LAST-MODIFIED:20230625T195453Z
UID:4621-1688205600-1688211000@hilevelgc.com
SUMMARY:P Belly Open
DESCRIPTION:Private event. Call for tee times.
URL:https://hilevelgc.com/event/p-belly-open-3/
LOCATION:Hi-Level Golf Course\, 148 High Level Lane\, Kossuth\, PA\, 16331\, United States
END:VEVENT
BEGIN:VEVENT
DTSTART;TZID=America/New_York:20230629T080000
DTEND;TZID=America/New_York:20230629T170000
DTSTAMP:20260423T131957
CREATED:20230608T161906Z
LAST-MODIFIED:20230608T161906Z
UID:4613-1688025600-1688058000@hilevelgc.com
SUMMARY:Men’s League
DESCRIPTION:Call for tee times! Over 60 group plays 9 holes between 8-10 am and Under 60 group plays front and back 9 between 3:30 and 5:30.
URL:https://hilevelgc.com/event/mens-league-25/
LOCATION:Hi-Level Golf Course\, 148 High Level Lane\, Kossuth\, PA\, 16331\, United States
END:VEVENT
BEGIN:VEVENT
DTSTART;TZID=America/New_York:20230628T090000
DTEND;TZID=America/New_York:20230628T130000
DTSTAMP:20260423T131957
CREATED:20230513T134100Z
LAST-MODIFIED:20230513T134100Z
UID:4569-1687942800-1687957200@hilevelgc.com
SUMMARY:Senior Scramble League
DESCRIPTION:This fun drop in league is open to seniors 60 and over! Just $22 for greens fee and cart and $8 for prizes\, coffee and donuts! Be here by 8:30 to register for the blind draw! For more information call the pro shop at 814-797-1813
URL:https://hilevelgc.com/event/senior-scramble-league-51/
LOCATION:Hi-Level Golf Course\, 148 High Level Lane\, Kossuth\, PA\, 16331\, United States
END:VEVENT
BEGIN:VEVENT
DTSTART;TZID=America/New_York:20230625T090000
DTEND;TZID=America/New_York:20230625T140000
DTSTAMP:20260423T131957
CREATED:20230515T200649Z
LAST-MODIFIED:20230515T200649Z
UID:4581-1687683600-1687701600@hilevelgc.com
SUMMARY:Hi-Level Ladies Scramble
DESCRIPTION:
URL:https://hilevelgc.com/event/hi-level-ladies-scramble/
LOCATION:Hi-Level Golf Course\, 148 High Level Lane\, Kossuth\, PA\, 16331\, United States
END:VEVENT
BEGIN:VEVENT
DTSTART;TZID=America/New_York:20230625T073000
DTEND;TZID=America/New_York:20230625T170000
DTSTAMP:20260423T131957
CREATED:20230625T195538Z
LAST-MODIFIED:20230625T195538Z
UID:4623-1687678200-1687712400@hilevelgc.com
SUMMARY:Call for tee times
DESCRIPTION:
URL:https://hilevelgc.com/event/call-for-tee-times-3/
LOCATION:Hi-Level Golf Course\, 148 High Level Lane\, Kossuth\, PA\, 16331\, United States
END:VEVENT
BEGIN:VEVENT
DTSTART;TZID=America/New_York:20230624T133000
DTEND;TZID=America/New_York:20230624T180000
DTSTAMP:20260423T131957
CREATED:20230615T233737Z
LAST-MODIFIED:20230615T233737Z
UID:4617-1687613400-1687629600@hilevelgc.com
SUMMARY:Clarion Moose Golf Scramble
DESCRIPTION:
URL:https://hilevelgc.com/event/clarion-moose-golf-scramble-2/
LOCATION:Hi-Level Golf Course\, 148 High Level Lane\, Kossuth\, PA\, 16331\, United States
END:VEVENT
BEGIN:VEVENT
DTSTART;TZID=America/New_York:20230624T090000
DTEND;TZID=America/New_York:20230624T130000
DTSTAMP:20260423T131957
CREATED:20230615T232817Z
LAST-MODIFIED:20230615T232817Z
UID:4615-1687597200-1687611600@hilevelgc.com
SUMMARY:Tidioute VFW golf outing
DESCRIPTION:Register at the Tidioute VFW
URL:https://hilevelgc.com/event/tidioute-vfw-golf-outing/
LOCATION:Hi-Level Golf Course\, 148 High Level Lane\, Kossuth\, PA\, 16331\, United States
END:VEVENT
BEGIN:VEVENT
DTSTART;TZID=America/New_York:20230622T080000
DTEND;TZID=America/New_York:20230622T170000
DTSTAMP:20260423T131957
CREATED:20230608T161817Z
LAST-MODIFIED:20230608T161817Z
UID:4611-1687420800-1687453200@hilevelgc.com
SUMMARY:Men’s League
DESCRIPTION:Call for tee times! Over 60 group plays 9 holes between 8-10 am and Under 60 group plays front and back 9 between 3:30 and 5:30.
URL:https://hilevelgc.com/event/mens-league-24/
LOCATION:Hi-Level Golf Course\, 148 High Level Lane\, Kossuth\, PA\, 16331\, United States
END:VEVENT
BEGIN:VEVENT
DTSTART;TZID=America/New_York:20230621T090000
DTEND;TZID=America/New_York:20230621T130000
DTSTAMP:20260423T131957
CREATED:20230513T134002Z
LAST-MODIFIED:20230513T134002Z
UID:4567-1687338000-1687352400@hilevelgc.com
SUMMARY:Senior Scramble League
DESCRIPTION:This fun drop in league is open to seniors 60 and over! Just $22 for greens fee and cart and $8 for prizes\, coffee and donuts! Be here by 8:30 to register for the blind draw! For more information call the pro shop at 814-797-1813
URL:https://hilevelgc.com/event/senior-scramble-league-50/
LOCATION:Hi-Level Golf Course\, 148 High Level Lane\, Kossuth\, PA\, 16331\, United States
END:VEVENT
BEGIN:VEVENT
DTSTART;TZID=America/New_York:20230621T090000
DTEND;TZID=America/New_York:20230621T130000
DTSTAMP:20260423T131957
CREATED:20230513T133902Z
LAST-MODIFIED:20230513T133902Z
UID:4565-1687338000-1687352400@hilevelgc.com
SUMMARY:Senior Scramble League
DESCRIPTION:This fun drop in league is open to seniors 60 and over! Just $22 for greens fee and cart and $8 for prizes\, coffee and donuts! Be here by 8:30 to register for the blind draw! For more information call the pro shop at 814-797-1813
URL:https://hilevelgc.com/event/senior-scramble-league-49/
LOCATION:Hi-Level Golf Course\, 148 High Level Lane\, Kossuth\, PA\, 16331\, United States
END:VEVENT
BEGIN:VEVENT
DTSTART;TZID=America/New_York:20230620T090000
DTEND;TZID=America/New_York:20230620T140000
DTSTAMP:20260423T131957
CREATED:20230515T201229Z
LAST-MODIFIED:20230515T201229Z
UID:4584-1687251600-1687269600@hilevelgc.com
SUMMARY:Hi-Level Junior Open
DESCRIPTION:
URL:https://hilevelgc.com/event/hi-level-junior-open-2/
LOCATION:Hi-Level Golf Course\, 148 High Level Lane\, Kossuth\, PA\, 16331\, United States
END:VEVENT
BEGIN:VEVENT
DTSTART;TZID=America/New_York:20230618T080000
DTEND;TZID=America/New_York:20230618T170000
DTSTAMP:20260423T131957
CREATED:20230608T161134Z
LAST-MODIFIED:20230608T161134Z
UID:4606-1687075200-1687107600@hilevelgc.com
SUMMARY:Father’s Day
DESCRIPTION:Call for tee times!
URL:https://hilevelgc.com/event/fathers-day/
LOCATION:Hi-Level Golf Course\, 148 High Level Lane\, Kossuth\, PA\, 16331\, United States
END:VEVENT
BEGIN:VEVENT
DTSTART;TZID=America/New_York:20230617T090000
DTEND;TZID=America/New_York:20230617T130000
DTSTAMP:20260423T131957
CREATED:20230608T160836Z
LAST-MODIFIED:20230608T160836Z
UID:4603-1686992400-1687006800@hilevelgc.com
SUMMARY:Couple’s Scramble
DESCRIPTION:
URL:https://hilevelgc.com/event/couples-scramble-3/
LOCATION:Hi-Level Golf Course\, 148 High Level Lane\, Kossuth\, PA\, 16331\, United States
END:VEVENT
BEGIN:VEVENT
DTSTART;TZID=America/New_York:20230615T080000
DTEND;TZID=America/New_York:20230615T170000
DTSTAMP:20260423T131957
CREATED:20230506T142652Z
LAST-MODIFIED:20230506T142652Z
UID:4541-1686816000-1686848400@hilevelgc.com
SUMMARY:Men’s League
DESCRIPTION:Call for tee times! Over 60 group plays 9 holes between 8-10 am and Under 60 group plays front and back 9 between 3:30 and 5:30.
URL:https://hilevelgc.com/event/mens-league-23/
LOCATION:Hi-Level Golf Course\, 148 High Level Lane\, Kossuth\, PA\, 16331\, United States
END:VEVENT
BEGIN:VEVENT
DTSTART;TZID=America/New_York:20230614T090000
DTEND;TZID=America/New_York:20230614T130000
DTSTAMP:20260423T131957
CREATED:20230513T133758Z
LAST-MODIFIED:20230513T133758Z
UID:4563-1686733200-1686747600@hilevelgc.com
SUMMARY:Senior Scramble League
DESCRIPTION:This fun drop in league is open to seniors 60 and over! Just $22 for greens fee and cart and $8 for prizes\, coffee and donuts! Be here by 8:30 to register for the blind draw! For more information call the pro shop at 814-797-1813
URL:https://hilevelgc.com/event/senior-scramble-league-48/
LOCATION:Hi-Level Golf Course\, 148 High Level Lane\, Kossuth\, PA\, 16331\, United States
END:VEVENT
BEGIN:VEVENT
DTSTART;TZID=America/New_York:20230611T083000
DTEND;TZID=America/New_York:20230611T090000
DTSTAMP:20260423T131957
CREATED:20230608T155922Z
LAST-MODIFIED:20230608T155922Z
UID:4600-1686472200-1686474000@hilevelgc.com
SUMMARY:Cyphert group/call for tee times
DESCRIPTION:Cyphert group 8:30\nCall for tee times
URL:https://hilevelgc.com/event/cyphert-group-call-for-tee-times/
LOCATION:Hi-Level Golf Course\, 148 High Level Lane\, Kossuth\, PA\, 16331\, United States
END:VEVENT
END:VCALENDAR