BEGIN:VCALENDAR
VERSION:2.0
PRODID:-//Hi-Level Golf Course - ECPv5.16.3.1//NONSGML v1.0//EN
CALSCALE:GREGORIAN
METHOD:PUBLISH
X-WR-CALNAME:Hi-Level Golf Course
X-ORIGINAL-URL:https://hilevelgc.com
X-WR-CALDESC:Events for Hi-Level Golf Course
REFRESH-INTERVAL;VALUE=DURATION:PT1H
X-Robots-Tag:noindex
X-PUBLISHED-TTL:PT1H
BEGIN:VTIMEZONE
TZID:America/New_York
BEGIN:DAYLIGHT
TZOFFSETFROM:-0500
TZOFFSETTO:-0400
TZNAME:EDT
DTSTART:20240310T070000
END:DAYLIGHT
BEGIN:STANDARD
TZOFFSETFROM:-0400
TZOFFSETTO:-0500
TZNAME:EST
DTSTART:20241103T060000
END:STANDARD
END:VTIMEZONE
BEGIN:VEVENT
DTSTART;TZID=America/New_York:20240907T093000
DTEND;TZID=America/New_York:20240907T133000
DTSTAMP:20260419T210440
CREATED:20240801T205901Z
LAST-MODIFIED:20240801T205901Z
UID:4995-1725701400-1725715800@hilevelgc.com
SUMMARY:Windstream Regional Corporate Outing
DESCRIPTION:
URL:https://hilevelgc.com/event/windstream-regional-corporate-outing/
LOCATION:PA
END:VEVENT
BEGIN:VEVENT
DTSTART;TZID=America/New_York:20240904T090000
DTEND;TZID=America/New_York:20240904T130000
DTSTAMP:20260419T210440
CREATED:20240806T205441Z
LAST-MODIFIED:20240806T205441Z
UID:5048-1725440400-1725454800@hilevelgc.com
SUMMARY:Senior Scramble League
DESCRIPTION:This fun drop in league is open to seniors 60 and over! Just $22 for greens fee and cart and $6 for prizes\, coffee and donuts! Be here by 8:30 to register for the blind draw! For more information call the pro shop at 814-797-1813
URL:https://hilevelgc.com/event/senior-scramble-league-86/
LOCATION:Hi-Level Golf Course\, 148 High Level Lane\, Kossuth\, PA\, 16331\, United States
END:VEVENT
BEGIN:VEVENT
DTSTART;TZID=America/New_York:20240831T090000
DTEND;TZID=America/New_York:20240831T130000
DTSTAMP:20260419T210440
CREATED:20240801T195802Z
LAST-MODIFIED:20240801T195802Z
UID:4974-1725094800-1725109200@hilevelgc.com
SUMMARY:Folds of Honor Western PA
DESCRIPTION:4th Annual Folds of Honor Charity Golf Scramble. $360 per team. \nFolds of Honor is a 501(C)(3) nonprofit organization\, rated a four-star charity by Charity Navigator and platinum on Guide Star\, that provides educational scholarships to the families of military men and women who have fallen or been disabled while on active duty in the United States armed forces. \n~Honor Their Sacrifice~Educate Their Legacy~
URL:https://hilevelgc.com/event/folds-of-honor-western-pa/
LOCATION:Hi-Level Golf Course\, 148 High Level Lane\, Kossuth\, PA\, 16331\, United States
END:VEVENT
BEGIN:VEVENT
DTSTART;TZID=America/New_York:20240830T120000
DTEND;TZID=America/New_York:20240830T160000
DTSTAMP:20260419T210440
CREATED:20240806T192143Z
LAST-MODIFIED:20240806T192143Z
UID:5038-1725019200-1725033600@hilevelgc.com
SUMMARY:Kronospan Golf Outing
DESCRIPTION:Kronospan shotgun at noon. Call for tee times!
URL:https://hilevelgc.com/event/kronospan-golf-outing/
LOCATION:Hi-Level Golf Course\, 148 High Level Lane\, Kossuth\, PA\, 16331\, United States
END:VEVENT
BEGIN:VEVENT
DTSTART;TZID=America/New_York:20240829T080000
DTEND;TZID=America/New_York:20240829T173000
DTSTAMP:20260419T210440
CREATED:20240806T190609Z
LAST-MODIFIED:20240806T190609Z
UID:5024-1724918400-1724952600@hilevelgc.com
SUMMARY:Men’s League
DESCRIPTION:Call for tee times! \nOver 60 group plays 9 holes between 8:00 a.m.- 10:00 a.m. \nUnder 60 group plays front and back 9 between 3:30 p.m. and 5:30 p.m.
URL:https://hilevelgc.com/event/mens-league-47/
LOCATION:Hi-Level Golf Course\, 148 High Level Lane\, Kossuth\, PA\, 16331\, United States
END:VEVENT
BEGIN:VEVENT
DTSTART;TZID=America/New_York:20240828T160000
DTEND;TZID=America/New_York:20240828T183000
DTSTAMP:20260419T210440
CREATED:20240822T181556Z
LAST-MODIFIED:20240822T181556Z
UID:5054-1724860800-1724869800@hilevelgc.com
SUMMARY:KSAC JV Match
DESCRIPTION:Front 9 closed from 4-6:30 \ncall for tee times
URL:https://hilevelgc.com/event/ksac-jv-match/
LOCATION:Hi-Level Golf Course\, 148 High Level Lane\, Kossuth\, PA\, 16331\, United States
END:VEVENT
BEGIN:VEVENT
DTSTART;TZID=America/New_York:20240828T080000
DTEND;TZID=America/New_York:20240828T130000
DTSTAMP:20260419T210440
CREATED:20240806T190923Z
LAST-MODIFIED:20240806T190923Z
UID:5028-1724832000-1724850000@hilevelgc.com
SUMMARY:Senior Scramble League
DESCRIPTION:This fun drop in league is open to seniors 60 and over! Just $22 for greens fee and cart and $6 for prizes\, coffee and donuts! Be here by 8:30 to register for the blind draw! For more information call the pro shop at 814-797-1813
URL:https://hilevelgc.com/event/senior-scramble-league-85/
LOCATION:Hi-Level Golf Course\, 148 High Level Lane\, Kossuth\, PA\, 16331\, United States
END:VEVENT
BEGIN:VEVENT
DTSTART;TZID=America/New_York:20240826T090000
DTEND;TZID=America/New_York:20240826T130000
DTSTAMP:20260419T210440
CREATED:20240806T192343Z
LAST-MODIFIED:20240806T192343Z
UID:5040-1724662800-1724677200@hilevelgc.com
SUMMARY:Carl Sherman Memorial Golf Scramble
DESCRIPTION:Carl Sherman Memorial 9am start. Call for tee times!
URL:https://hilevelgc.com/event/carl-sherman-memorial-golf-scramble/
LOCATION:PA
END:VEVENT
BEGIN:VEVENT
DTSTART;TZID=America/New_York:20240825T090000
DTEND;TZID=America/New_York:20240825T130000
DTSTAMP:20260419T210441
CREATED:20240801T210116Z
LAST-MODIFIED:20240801T210116Z
UID:4999-1724576400-1724590800@hilevelgc.com
SUMMARY:Clarion Eagles Scramble
DESCRIPTION:
URL:https://hilevelgc.com/event/clarion-eagles-scramble-3/
LOCATION:PA
END:VEVENT
BEGIN:VEVENT
DTSTART;TZID=America/New_York:20240824T093000
DTEND;TZID=America/New_York:20240824T133000
DTSTAMP:20260419T210441
CREATED:20240801T210352Z
LAST-MODIFIED:20240801T210352Z
UID:5001-1724491800-1724506200@hilevelgc.com
SUMMARY:23rd Annual Brion Schiberl Memorial Golf Outing
DESCRIPTION:
URL:https://hilevelgc.com/event/23rd-annual-brion-schiberl-memorial-golf-outing/
LOCATION:PA
END:VEVENT
BEGIN:VEVENT
DTSTART;TZID=America/New_York:20240823T130000
DTEND;TZID=America/New_York:20240823T150000
DTSTAMP:20260419T210441
CREATED:20240806T191956Z
LAST-MODIFIED:20240806T191956Z
UID:5036-1724418000-1724425200@hilevelgc.com
SUMMARY:Matric Golf Outing
DESCRIPTION:Matric outing 40 people shotgun start at 1pm. Call for tee times!
URL:https://hilevelgc.com/event/matric-golf-outing-2/
LOCATION:Hi-Level Golf Course\, 148 High Level Lane\, Kossuth\, PA\, 16331\, United States
END:VEVENT
BEGIN:VEVENT
DTSTART;TZID=America/New_York:20240822T080000
DTEND;TZID=America/New_York:20240822T173000
DTSTAMP:20260419T210441
CREATED:20240806T190505Z
LAST-MODIFIED:20240806T190505Z
UID:5022-1724313600-1724347800@hilevelgc.com
SUMMARY:Men’s League
DESCRIPTION:Call for tee times! \nOver 60 group plays 9 holes between 8:00 a.m.- 10:00 a.m. \nUnder 60 group plays front and back 9 between 3:30 p.m. and 5:30 p.m.
URL:https://hilevelgc.com/event/mens-league-46/
LOCATION:Hi-Level Golf Course\, 148 High Level Lane\, Kossuth\, PA\, 16331\, United States
END:VEVENT
BEGIN:VEVENT
DTSTART;TZID=America/New_York:20240821T080000
DTEND;TZID=America/New_York:20240821T130000
DTSTAMP:20260419T210441
CREATED:20240806T190815Z
LAST-MODIFIED:20240806T190815Z
UID:5026-1724227200-1724245200@hilevelgc.com
SUMMARY:Senior Scramble League
DESCRIPTION:This fun drop in league is open to seniors 60 and over! Just $22 for greens fee and cart and $6 for prizes\, coffee and donuts! Be here by 8:30 to register for the blind draw! For more information call the pro shop at 814-797-1813
URL:https://hilevelgc.com/event/senior-scramble-league-84/
LOCATION:Hi-Level Golf Course\, 148 High Level Lane\, Kossuth\, PA\, 16331\, United States
END:VEVENT
BEGIN:VEVENT
DTSTART;TZID=America/New_York:20240818T140000
DTEND;TZID=America/New_York:20240818T180000
DTSTAMP:20260419T210441
CREATED:20240801T200738Z
LAST-MODIFIED:20240801T200738Z
UID:4984-1723989600-1724004000@hilevelgc.com
SUMMARY:First Church of God Golf Outing
DESCRIPTION:$260 per foursome.  Sponsorship opportunities available.\nBenefits The Life Center (formerly the ABC Pregnancy Center)\, which provides compassionate\, holistic care and support for anyone making decisions about unintended pregnancy.  All the Life Center services are offered free of charge.
URL:https://hilevelgc.com/event/first-church-of-god-golf-outing-3/
LOCATION:PA
END:VEVENT
BEGIN:VEVENT
DTSTART;TZID=America/New_York:20240817T090000
DTEND;TZID=America/New_York:20240817T130000
DTSTAMP:20260419T210441
CREATED:20240801T210458Z
LAST-MODIFIED:20240801T210458Z
UID:5003-1723885200-1723899600@hilevelgc.com
SUMMARY:PPC Golf Scramble
DESCRIPTION:
URL:https://hilevelgc.com/event/ppc-golf-scramble-3/
LOCATION:PA
END:VEVENT
BEGIN:VEVENT
DTSTART;TZID=America/New_York:20240816T090000
DTEND;TZID=America/New_York:20240816T140000
DTSTAMP:20260419T210441
CREATED:20240806T191629Z
LAST-MODIFIED:20240806T191629Z
UID:5034-1723798800-1723816800@hilevelgc.com
SUMMARY:Sleepy Hollow Seniors Golf Outing
DESCRIPTION:Course closed from 9-2 for this private outing
URL:https://hilevelgc.com/event/sleepy-hollow-seniors-golf-outing/
LOCATION:Hi-Level Golf Course\, 148 High Level Lane\, Kossuth\, PA\, 16331\, United States
END:VEVENT
BEGIN:VEVENT
DTSTART;TZID=America/New_York:20240815T080000
DTEND;TZID=America/New_York:20240815T173000
DTSTAMP:20260419T210441
CREATED:20240806T190325Z
LAST-MODIFIED:20240806T190325Z
UID:5020-1723708800-1723743000@hilevelgc.com
SUMMARY:Men’s League
DESCRIPTION:Call for tee times! \nOver 60 group plays 9 holes between 8:00 a.m.- 10:00 a.m. \nUnder 60 group plays front and back 9 between 3:30 p.m. and 5:30 p.m.
URL:https://hilevelgc.com/event/mens-league-45/
LOCATION:Hi-Level Golf Course\, 148 High Level Lane\, Kossuth\, PA\, 16331\, United States
END:VEVENT
BEGIN:VEVENT
DTSTART;TZID=America/New_York:20240814T160000
DTEND;TZID=America/New_York:20240814T183000
DTSTAMP:20260419T210441
CREATED:20240806T191338Z
LAST-MODIFIED:20240806T191338Z
UID:5032-1723651200-1723660200@hilevelgc.com
SUMMARY:KSAC Girl’s Golf Match
DESCRIPTION:Front 9 will be closed 4-6:30.
URL:https://hilevelgc.com/event/ksac-girls-golf-match-4/
LOCATION:Hi-Level Golf Course\, 148 High Level Lane\, Kossuth\, PA\, 16331\, United States
END:VEVENT
BEGIN:VEVENT
DTSTART;TZID=America/New_York:20240814T090000
DTEND;TZID=America/New_York:20240814T130000
DTSTAMP:20260419T210441
CREATED:20240629T184603Z
LAST-MODIFIED:20240629T184603Z
UID:4938-1723626000-1723640400@hilevelgc.com
SUMMARY:Senior Scramble League
DESCRIPTION:This fun drop in league is open to seniors 60 and over! Just $22 for greens fee and cart and $6 for prizes\, coffee and donuts! Be here by 8:30 to register for the blind draw! For more information call the pro shop at 814-797-1813
URL:https://hilevelgc.com/event/senior-scramble-league-83/
LOCATION:Hi-Level Golf Course\, 148 High Level Lane\, Kossuth\, PA\, 16331\, United States
END:VEVENT
BEGIN:VEVENT
DTSTART;TZID=America/New_York:20240813T160000
DTEND;TZID=America/New_York:20240813T183000
DTSTAMP:20260419T210441
CREATED:20240806T191211Z
LAST-MODIFIED:20240806T191211Z
UID:5030-1723564800-1723573800@hilevelgc.com
SUMMARY:KSAC Boy’s Golf Match
DESCRIPTION:Front 9 will be closed from 4-6:30.
URL:https://hilevelgc.com/event/ksac-boys-golf-match-2/
LOCATION:Hi-Level Golf Course\, 148 High Level Lane\, Kossuth\, PA\, 16331\, United States
END:VEVENT
BEGIN:VEVENT
DTSTART;TZID=America/New_York:20240811T090000
DTEND;TZID=America/New_York:20240811T130000
DTSTAMP:20260419T210441
CREATED:20240801T205453Z
LAST-MODIFIED:20240801T205453Z
UID:4988-1723366800-1723381200@hilevelgc.com
SUMMARY:Shawn "Fluff" Rehberg Memorial Golf Scramble
DESCRIPTION:
URL:https://hilevelgc.com/event/shawn-fluff-rehberg-memorial-golf-scramble/
LOCATION:PA
END:VEVENT
BEGIN:VEVENT
DTSTART;TZID=America/New_York:20240810T090000
DTEND;TZID=America/New_York:20240810T130000
DTSTAMP:20260419T210441
CREATED:20240801T205342Z
LAST-MODIFIED:20240801T205342Z
UID:4986-1723280400-1723294800@hilevelgc.com
SUMMARY:Sonneborne/Witko Corporate Outing
DESCRIPTION:
URL:https://hilevelgc.com/event/sonneborne-witko-corporate-outing/
LOCATION:PA
END:VEVENT
BEGIN:VEVENT
DTSTART;TZID=America/New_York:20240808T080000
DTEND;TZID=America/New_York:20240808T180000
DTSTAMP:20260419T210441
CREATED:20240806T190225Z
LAST-MODIFIED:20240806T190225Z
UID:5018-1723104000-1723140000@hilevelgc.com
SUMMARY:Men’s League
DESCRIPTION:Call for tee times! \nOver 60 group plays 9 holes between 8:00 a.m.- 10:00 a.m. \nUnder 60 group plays front and back 9 between 3:30 p.m. and 5:30 p.m.
URL:https://hilevelgc.com/event/mens-league-44/
LOCATION:Hi-Level Golf Course\, 148 High Level Lane\, Kossuth\, PA\, 16331\, United States
END:VEVENT
BEGIN:VEVENT
DTSTART;TZID=America/New_York:20240807T090000
DTEND;TZID=America/New_York:20240807T130000
DTSTAMP:20260419T210441
CREATED:20240629T184452Z
LAST-MODIFIED:20240629T184452Z
UID:4936-1723021200-1723035600@hilevelgc.com
SUMMARY:Senior Scramble League
DESCRIPTION:This fun drop in league is open to seniors 60 and over! Just $22 for greens fee and cart and $6 for prizes\, coffee and donuts! Be here by 8:30 to register for the blind draw! For more information call the pro shop at 814-797-1813
URL:https://hilevelgc.com/event/senior-scramble-league-82/
LOCATION:Hi-Level Golf Course\, 148 High Level Lane\, Kossuth\, PA\, 16331\, United States
END:VEVENT
BEGIN:VEVENT
DTSTART;TZID=America/New_York:20240803T090000
DTEND;TZID=America/New_York:20240803T090000
DTSTAMP:20260419T210441
CREATED:20240801T200438Z
LAST-MODIFIED:20240801T200438Z
UID:4982-1722675600-1722675600@hilevelgc.com
SUMMARY:Clarion Swimming and Diving Golf Outing
DESCRIPTION:$75 per person\, $300 per team.  Benefits Clarion University Foundation\, Inc.
URL:https://hilevelgc.com/event/clarion-swimming-and-diving-golf-outing/
LOCATION:PA
END:VEVENT
BEGIN:VEVENT
DTSTART;TZID=America/New_York:20240801T080000
DTEND;TZID=America/New_York:20240801T170000
DTSTAMP:20260419T210441
CREATED:20240713T152846Z
LAST-MODIFIED:20240713T152846Z
UID:4954-1722499200-1722531600@hilevelgc.com
SUMMARY:Men’s League
DESCRIPTION:Call for tee times! \nOver 60 group plays 9 holes between 8:00 a.m.- 10:00 a.m. \nUnder 60 group plays front and back 9 between 3:30 p.m. and 5:30 p.m.
URL:https://hilevelgc.com/event/mens-league-43/
LOCATION:Hi-Level Golf Course\, 148 High Level Lane\, Kossuth\, PA\, 16331\, United States
END:VEVENT
BEGIN:VEVENT
DTSTART;TZID=America/New_York:20240731T090000
DTEND;TZID=America/New_York:20240731T130000
DTSTAMP:20260419T210441
CREATED:20240629T184305Z
LAST-MODIFIED:20240629T184305Z
UID:4934-1722416400-1722430800@hilevelgc.com
SUMMARY:Senior Scramble League
DESCRIPTION:This fun drop in league is open to seniors 60 and over! Just $22 for greens fee and cart and $6 for prizes\, coffee and donuts! Be here by 8:30 to register for the blind draw! For more information call the pro shop at 814-797-1813
URL:https://hilevelgc.com/event/senior-scramble-league-81/
LOCATION:Hi-Level Golf Course\, 148 High Level Lane\, Kossuth\, PA\, 16331\, United States
END:VEVENT
BEGIN:VEVENT
DTSTART;TZID=America/New_York:20240730T090000
DTEND;TZID=America/New_York:20240730T140000
DTSTAMP:20260419T210441
CREATED:20240726T001848Z
LAST-MODIFIED:20240726T001848Z
UID:4963-1722330000-1722348000@hilevelgc.com
SUMMARY:Hi-Level Junior Open
DESCRIPTION:Screenshot
URL:https://hilevelgc.com/event/hi-level-junior-open-5/
LOCATION:Hi-Level Golf Course\, 148 High Level Lane\, Kossuth\, PA\, 16331\, United States
END:VEVENT
BEGIN:VEVENT
DTSTART;TZID=America/New_York:20240728T100000
DTEND;TZID=America/New_York:20240728T140000
DTSTAMP:20260419T210441
CREATED:20240726T001308Z
LAST-MODIFIED:20240726T001308Z
UID:4958-1722160800-1722175200@hilevelgc.com
SUMMARY:Brookville Eagles Scramble
DESCRIPTION:Call the Brookville Eagles to register
URL:https://hilevelgc.com/event/brookville-eagles-scramble/
LOCATION:Hi-Level Golf Course\, 148 High Level Lane\, Kossuth\, PA\, 16331\, United States
END:VEVENT
BEGIN:VEVENT
DTSTART;TZID=America/New_York:20240727T090000
DTEND;TZID=America/New_York:20240727T133000
DTSTAMP:20260419T210441
CREATED:20240726T001153Z
LAST-MODIFIED:20240726T001154Z
UID:4956-1722070800-1722087000@hilevelgc.com
SUMMARY:Oil City Eagles Scramble
DESCRIPTION:Event full
URL:https://hilevelgc.com/event/oil-city-eagles-scramble/
LOCATION:Hi-Level Golf Course\, 148 High Level Lane\, Kossuth\, PA\, 16331\, United States
END:VEVENT
END:VCALENDAR