BEGIN:VCALENDAR
VERSION:2.0
PRODID:-//Hi-Level Golf Course - ECPv5.16.3.1//NONSGML v1.0//EN
CALSCALE:GREGORIAN
METHOD:PUBLISH
X-WR-CALNAME:Hi-Level Golf Course
X-ORIGINAL-URL:https://hilevelgc.com
X-WR-CALDESC:Events for Hi-Level Golf Course
REFRESH-INTERVAL;VALUE=DURATION:PT1H
X-Robots-Tag:noindex
X-PUBLISHED-TTL:PT1H
BEGIN:VTIMEZONE
TZID:America/New_York
BEGIN:DAYLIGHT
TZOFFSETFROM:-0500
TZOFFSETTO:-0400
TZNAME:EDT
DTSTART:20240310T070000
END:DAYLIGHT
BEGIN:STANDARD
TZOFFSETFROM:-0400
TZOFFSETTO:-0500
TZNAME:EST
DTSTART:20241103T060000
END:STANDARD
BEGIN:DAYLIGHT
TZOFFSETFROM:-0500
TZOFFSETTO:-0400
TZNAME:EDT
DTSTART:20250309T070000
END:DAYLIGHT
BEGIN:STANDARD
TZOFFSETFROM:-0400
TZOFFSETTO:-0500
TZNAME:EST
DTSTART:20251102T060000
END:STANDARD
END:VTIMEZONE
BEGIN:VEVENT
DTSTART;TZID=America/New_York:20250423T100000
DTEND;TZID=America/New_York:20250423T140000
DTSTAMP:20260419T192050
CREATED:20250422T225217Z
LAST-MODIFIED:20250422T225217Z
UID:5078-1745402400-1745416800@hilevelgc.com
SUMMARY:Senior Scramble League
DESCRIPTION:This fun drop in league is open to seniors 60 and over! Just $23 for greens fee and cart and $6 for prizes\, coffee and donuts! Be here by 9:30 to register for the blind draw! For more information call the pro shop at 814-797-1813
URL:https://hilevelgc.com/event/senior-scramble-league-89/
LOCATION:Hi-Level Golf Course\, 148 High Level Lane\, Kossuth\, PA\, 16331\, United States
END:VEVENT
BEGIN:VEVENT
DTSTART;TZID=America/New_York:20240929T090000
DTEND;TZID=America/New_York:20240929T130000
DTSTAMP:20260419T192050
CREATED:20240805T211554Z
LAST-MODIFIED:20240805T211554Z
UID:5006-1727600400-1727614800@hilevelgc.com
SUMMARY:Knox Baseball Association Par 3 Golf Scramble
DESCRIPTION:
URL:https://hilevelgc.com/event/knox-baseball-association-par-3-golf-scramble/
LOCATION:Hi-Level Golf Course\, 148 High Level Lane\, Kossuth\, PA\, 16331\, United States
END:VEVENT
BEGIN:VEVENT
DTSTART;TZID=America/New_York:20240928T070000
DTEND;TZID=America/New_York:20240928T230000
DTSTAMP:20260419T192050
CREATED:20240806T204855Z
LAST-MODIFIED:20240806T204855Z
UID:5046-1727506800-1727564400@hilevelgc.com
SUMMARY:Devin and Kelsey’s Wedding Day
DESCRIPTION:Course closed for private event.
URL:https://hilevelgc.com/event/devin-and-kelseys-wedding-day/
LOCATION:Hi-Level Golf Course\, 148 High Level Lane\, Kossuth\, PA\, 16331\, United States
END:VEVENT
BEGIN:VEVENT
DTSTART;TZID=America/New_York:20240926T140000
DTEND;TZID=America/New_York:20240926T163000
DTSTAMP:20260419T192050
CREATED:20240902T175950Z
LAST-MODIFIED:20240902T175950Z
UID:5065-1727359200-1727368200@hilevelgc.com
SUMMARY:Junior High Match
DESCRIPTION:Junior high match on front nine at 2pm. Call for tee times.
URL:https://hilevelgc.com/event/junior-high-match/
LOCATION:Hi-Level Golf Course\, 148 High Level Lane\, Kossuth\, PA\, 16331\, United States
END:VEVENT
BEGIN:VEVENT
DTSTART;TZID=America/New_York:20240922T080000
DTEND;TZID=America/New_York:20240922T160000
DTSTAMP:20260419T192050
CREATED:20240902T175637Z
LAST-MODIFIED:20240902T175637Z
UID:5062-1726992000-1727020800@hilevelgc.com
SUMMARY:Hi-Level Challenge
DESCRIPTION:Screenshot
URL:https://hilevelgc.com/event/hi-level-challenge/
LOCATION:Hi-Level Golf Course\, 148 High Level Lane\, Kossuth\, PA\, 16331\, United States
END:VEVENT
BEGIN:VEVENT
DTSTART;TZID=America/New_York:20240921T090000
DTEND;TZID=America/New_York:20240921T140000
DTSTAMP:20260419T192050
CREATED:20240801T185849Z
LAST-MODIFIED:20240801T185849Z
UID:4971-1726909200-1726927200@hilevelgc.com
SUMMARY:1st Annual Buck's Vets Golf Scramble for Veterans
DESCRIPTION:Sign up as a pair\, $60 per person. \n 
URL:https://hilevelgc.com/event/1st-annual-bucks-vets-golf-scramble-for-veterans/
LOCATION:Hi-Level Golf Course\, 148 High Level Lane\, Kossuth\, PA\, 16331\, United States
END:VEVENT
BEGIN:VEVENT
DTSTART;TZID=America/New_York:20240919T160000
DTEND;TZID=America/New_York:20240919T183000
DTSTAMP:20260419T192050
CREATED:20240902T171206Z
LAST-MODIFIED:20240902T171206Z
UID:5060-1726761600-1726770600@hilevelgc.com
SUMMARY:KSAC Girls Match
DESCRIPTION:Girls match on front 9. Call for tee times.
URL:https://hilevelgc.com/event/ksac-girls-match/
LOCATION:Hi-Level Golf Course\, 148 High Level Lane\, Kossuth\, PA\, 16331\, United States
END:VEVENT
BEGIN:VEVENT
DTSTART;TZID=America/New_York:20240918T100000
DTEND;TZID=America/New_York:20240918T140000
DTSTAMP:20260419T192050
CREATED:20240806T205725Z
LAST-MODIFIED:20240902T170105Z
UID:5052-1726653600-1726668000@hilevelgc.com
SUMMARY:Senior Scramble League
DESCRIPTION:This fun drop in league is open to seniors 60 and over! Just $22 for greens fee and cart and $6 for prizes\, coffee and donuts! Be here by 8:30 to register for the blind draw! For more information call the pro shop at 814-797-1813
URL:https://hilevelgc.com/event/senior-scramble-league-88/
LOCATION:Hi-Level Golf Course\, 148 High Level Lane\, Kossuth\, PA\, 16331\, United States
END:VEVENT
BEGIN:VEVENT
DTSTART;TZID=America/New_York:20240916T160000
DTEND;TZID=America/New_York:20240916T183000
DTSTAMP:20260419T192050
CREATED:20240902T171007Z
LAST-MODIFIED:20240902T171007Z
UID:5058-1726502400-1726511400@hilevelgc.com
SUMMARY:Keystone Boys golf match with St. Mary’s
DESCRIPTION:Boys match on front 9. Call for tee times.
URL:https://hilevelgc.com/event/keystone-boys-golf-match-with-st-marys/
LOCATION:Hi-Level Golf Course\, 148 High Level Lane\, Kossuth\, PA\, 16331\, United States
END:VEVENT
BEGIN:VEVENT
DTSTART;TZID=America/New_York:20240915T090000
DTEND;TZID=America/New_York:20240915T130000
DTSTAMP:20260419T192050
CREATED:20240801T200004Z
LAST-MODIFIED:20240801T200004Z
UID:4980-1726390800-1726405200@hilevelgc.com
SUMMARY:Knox Lions Club Golf Scramble
DESCRIPTION:Cost is $240 per foursome.  All proceeds will help to defray Knox Lions Club’s Scholarship Fund.
URL:https://hilevelgc.com/event/knox-lions-club-golf-scramble/
LOCATION:PA
END:VEVENT
BEGIN:VEVENT
DTSTART;TZID=America/New_York:20240914T140000
DTEND;TZID=America/New_York:20240914T180000
DTSTAMP:20260419T192050
CREATED:20240801T205716Z
LAST-MODIFIED:20240801T205716Z
UID:4993-1726322400-1726336800@hilevelgc.com
SUMMARY:Andy Stewart Corporate Event
DESCRIPTION:
URL:https://hilevelgc.com/event/andy-stewart-corporate-event/
LOCATION:PA
END:VEVENT
BEGIN:VEVENT
DTSTART;TZID=America/New_York:20240914T090000
DTEND;TZID=America/New_York:20240914T130000
DTSTAMP:20260419T192050
CREATED:20240801T205605Z
LAST-MODIFIED:20240801T205605Z
UID:4991-1726304400-1726318800@hilevelgc.com
SUMMARY:United Forest Products Corporate Outing
DESCRIPTION:
URL:https://hilevelgc.com/event/united-forest-products-corporate-outing/
LOCATION:PA
END:VEVENT
BEGIN:VEVENT
DTSTART;TZID=America/New_York:20240911T100000
DTEND;TZID=America/New_York:20240911T140000
DTSTAMP:20260419T192050
CREATED:20240806T205548Z
LAST-MODIFIED:20240902T165948Z
UID:5050-1726048800-1726063200@hilevelgc.com
SUMMARY:Senior Scramble League
DESCRIPTION:This fun drop in league is open to seniors 60 and over! Just $22 for greens fee and cart and $6 for prizes\, coffee and donuts! Be here by 8:30 to register for the blind draw! For more information call the pro shop at 814-797-1813
URL:https://hilevelgc.com/event/senior-scramble-league-87/
LOCATION:Hi-Level Golf Course\, 148 High Level Lane\, Kossuth\, PA\, 16331\, United States
END:VEVENT
BEGIN:VEVENT
DTSTART;TZID=America/New_York:20240909T160000
DTEND;TZID=America/New_York:20240909T183000
DTSTAMP:20260419T192050
CREATED:20240902T170802Z
LAST-MODIFIED:20240902T170802Z
UID:5056-1725897600-1725906600@hilevelgc.com
SUMMARY:KSAC Girls Golf Match
DESCRIPTION:Girls match on front 9. Call for tee times.
URL:https://hilevelgc.com/event/ksac-girls-golf-match-7/
LOCATION:Hi-Level Golf Course\, 148 High Level Lane\, Kossuth\, PA\, 16331\, United States
END:VEVENT
BEGIN:VEVENT
DTSTART;TZID=America/New_York:20240909T160000
DTEND;TZID=America/New_York:20240909T173000
DTSTAMP:20260419T192050
CREATED:20240806T204439Z
LAST-MODIFIED:20240806T204439Z
UID:5042-1725897600-1725903000@hilevelgc.com
SUMMARY:KSAC Girl’s Golf Match
DESCRIPTION:Front 9 closed from 4-6:30. Call for tee times.
URL:https://hilevelgc.com/event/ksac-girls-golf-match-5/
LOCATION:Hi-Level Golf Course\, 148 High Level Lane\, Kossuth\, PA\, 16331\, United States
END:VEVENT
BEGIN:VEVENT
DTSTART;TZID=America/New_York:20240908T090000
DTEND;TZID=America/New_York:20240908T130000
DTSTAMP:20260419T192050
CREATED:20240801T210008Z
LAST-MODIFIED:20240801T210008Z
UID:4997-1725786000-1725800400@hilevelgc.com
SUMMARY:Men's League Scramble
DESCRIPTION:
URL:https://hilevelgc.com/event/mens-league-scramble-3/
LOCATION:PA
END:VEVENT
BEGIN:VEVENT
DTSTART;TZID=America/New_York:20240907T093000
DTEND;TZID=America/New_York:20240907T133000
DTSTAMP:20260419T192050
CREATED:20240801T205901Z
LAST-MODIFIED:20240801T205901Z
UID:4995-1725701400-1725715800@hilevelgc.com
SUMMARY:Windstream Regional Corporate Outing
DESCRIPTION:
URL:https://hilevelgc.com/event/windstream-regional-corporate-outing/
LOCATION:PA
END:VEVENT
BEGIN:VEVENT
DTSTART;TZID=America/New_York:20240904T090000
DTEND;TZID=America/New_York:20240904T130000
DTSTAMP:20260419T192050
CREATED:20240806T205441Z
LAST-MODIFIED:20240806T205441Z
UID:5048-1725440400-1725454800@hilevelgc.com
SUMMARY:Senior Scramble League
DESCRIPTION:This fun drop in league is open to seniors 60 and over! Just $22 for greens fee and cart and $6 for prizes\, coffee and donuts! Be here by 8:30 to register for the blind draw! For more information call the pro shop at 814-797-1813
URL:https://hilevelgc.com/event/senior-scramble-league-86/
LOCATION:Hi-Level Golf Course\, 148 High Level Lane\, Kossuth\, PA\, 16331\, United States
END:VEVENT
BEGIN:VEVENT
DTSTART;TZID=America/New_York:20240831T090000
DTEND;TZID=America/New_York:20240831T130000
DTSTAMP:20260419T192050
CREATED:20240801T195802Z
LAST-MODIFIED:20240801T195802Z
UID:4974-1725094800-1725109200@hilevelgc.com
SUMMARY:Folds of Honor Western PA
DESCRIPTION:4th Annual Folds of Honor Charity Golf Scramble. $360 per team. \nFolds of Honor is a 501(C)(3) nonprofit organization\, rated a four-star charity by Charity Navigator and platinum on Guide Star\, that provides educational scholarships to the families of military men and women who have fallen or been disabled while on active duty in the United States armed forces. \n~Honor Their Sacrifice~Educate Their Legacy~
URL:https://hilevelgc.com/event/folds-of-honor-western-pa/
LOCATION:Hi-Level Golf Course\, 148 High Level Lane\, Kossuth\, PA\, 16331\, United States
END:VEVENT
BEGIN:VEVENT
DTSTART;TZID=America/New_York:20240830T120000
DTEND;TZID=America/New_York:20240830T160000
DTSTAMP:20260419T192050
CREATED:20240806T192143Z
LAST-MODIFIED:20240806T192143Z
UID:5038-1725019200-1725033600@hilevelgc.com
SUMMARY:Kronospan Golf Outing
DESCRIPTION:Kronospan shotgun at noon. Call for tee times!
URL:https://hilevelgc.com/event/kronospan-golf-outing/
LOCATION:Hi-Level Golf Course\, 148 High Level Lane\, Kossuth\, PA\, 16331\, United States
END:VEVENT
BEGIN:VEVENT
DTSTART;TZID=America/New_York:20240829T080000
DTEND;TZID=America/New_York:20240829T173000
DTSTAMP:20260419T192050
CREATED:20240806T190609Z
LAST-MODIFIED:20240806T190609Z
UID:5024-1724918400-1724952600@hilevelgc.com
SUMMARY:Men’s League
DESCRIPTION:Call for tee times! \nOver 60 group plays 9 holes between 8:00 a.m.- 10:00 a.m. \nUnder 60 group plays front and back 9 between 3:30 p.m. and 5:30 p.m.
URL:https://hilevelgc.com/event/mens-league-47/
LOCATION:Hi-Level Golf Course\, 148 High Level Lane\, Kossuth\, PA\, 16331\, United States
END:VEVENT
BEGIN:VEVENT
DTSTART;TZID=America/New_York:20240828T160000
DTEND;TZID=America/New_York:20240828T183000
DTSTAMP:20260419T192050
CREATED:20240822T181556Z
LAST-MODIFIED:20240822T181556Z
UID:5054-1724860800-1724869800@hilevelgc.com
SUMMARY:KSAC JV Match
DESCRIPTION:Front 9 closed from 4-6:30 \ncall for tee times
URL:https://hilevelgc.com/event/ksac-jv-match/
LOCATION:Hi-Level Golf Course\, 148 High Level Lane\, Kossuth\, PA\, 16331\, United States
END:VEVENT
BEGIN:VEVENT
DTSTART;TZID=America/New_York:20240828T080000
DTEND;TZID=America/New_York:20240828T130000
DTSTAMP:20260419T192050
CREATED:20240806T190923Z
LAST-MODIFIED:20240806T190923Z
UID:5028-1724832000-1724850000@hilevelgc.com
SUMMARY:Senior Scramble League
DESCRIPTION:This fun drop in league is open to seniors 60 and over! Just $22 for greens fee and cart and $6 for prizes\, coffee and donuts! Be here by 8:30 to register for the blind draw! For more information call the pro shop at 814-797-1813
URL:https://hilevelgc.com/event/senior-scramble-league-85/
LOCATION:Hi-Level Golf Course\, 148 High Level Lane\, Kossuth\, PA\, 16331\, United States
END:VEVENT
BEGIN:VEVENT
DTSTART;TZID=America/New_York:20240826T090000
DTEND;TZID=America/New_York:20240826T130000
DTSTAMP:20260419T192050
CREATED:20240806T192343Z
LAST-MODIFIED:20240806T192343Z
UID:5040-1724662800-1724677200@hilevelgc.com
SUMMARY:Carl Sherman Memorial Golf Scramble
DESCRIPTION:Carl Sherman Memorial 9am start. Call for tee times!
URL:https://hilevelgc.com/event/carl-sherman-memorial-golf-scramble/
LOCATION:PA
END:VEVENT
BEGIN:VEVENT
DTSTART;TZID=America/New_York:20240825T090000
DTEND;TZID=America/New_York:20240825T130000
DTSTAMP:20260419T192050
CREATED:20240801T210116Z
LAST-MODIFIED:20240801T210116Z
UID:4999-1724576400-1724590800@hilevelgc.com
SUMMARY:Clarion Eagles Scramble
DESCRIPTION:
URL:https://hilevelgc.com/event/clarion-eagles-scramble-3/
LOCATION:PA
END:VEVENT
BEGIN:VEVENT
DTSTART;TZID=America/New_York:20240824T093000
DTEND;TZID=America/New_York:20240824T133000
DTSTAMP:20260419T192050
CREATED:20240801T210352Z
LAST-MODIFIED:20240801T210352Z
UID:5001-1724491800-1724506200@hilevelgc.com
SUMMARY:23rd Annual Brion Schiberl Memorial Golf Outing
DESCRIPTION:
URL:https://hilevelgc.com/event/23rd-annual-brion-schiberl-memorial-golf-outing/
LOCATION:PA
END:VEVENT
BEGIN:VEVENT
DTSTART;TZID=America/New_York:20240823T130000
DTEND;TZID=America/New_York:20240823T150000
DTSTAMP:20260419T192050
CREATED:20240806T191956Z
LAST-MODIFIED:20240806T191956Z
UID:5036-1724418000-1724425200@hilevelgc.com
SUMMARY:Matric Golf Outing
DESCRIPTION:Matric outing 40 people shotgun start at 1pm. Call for tee times!
URL:https://hilevelgc.com/event/matric-golf-outing-2/
LOCATION:Hi-Level Golf Course\, 148 High Level Lane\, Kossuth\, PA\, 16331\, United States
END:VEVENT
BEGIN:VEVENT
DTSTART;TZID=America/New_York:20240822T080000
DTEND;TZID=America/New_York:20240822T173000
DTSTAMP:20260419T192050
CREATED:20240806T190505Z
LAST-MODIFIED:20240806T190505Z
UID:5022-1724313600-1724347800@hilevelgc.com
SUMMARY:Men’s League
DESCRIPTION:Call for tee times! \nOver 60 group plays 9 holes between 8:00 a.m.- 10:00 a.m. \nUnder 60 group plays front and back 9 between 3:30 p.m. and 5:30 p.m.
URL:https://hilevelgc.com/event/mens-league-46/
LOCATION:Hi-Level Golf Course\, 148 High Level Lane\, Kossuth\, PA\, 16331\, United States
END:VEVENT
BEGIN:VEVENT
DTSTART;TZID=America/New_York:20240821T080000
DTEND;TZID=America/New_York:20240821T130000
DTSTAMP:20260419T192050
CREATED:20240806T190815Z
LAST-MODIFIED:20240806T190815Z
UID:5026-1724227200-1724245200@hilevelgc.com
SUMMARY:Senior Scramble League
DESCRIPTION:This fun drop in league is open to seniors 60 and over! Just $22 for greens fee and cart and $6 for prizes\, coffee and donuts! Be here by 8:30 to register for the blind draw! For more information call the pro shop at 814-797-1813
URL:https://hilevelgc.com/event/senior-scramble-league-84/
LOCATION:Hi-Level Golf Course\, 148 High Level Lane\, Kossuth\, PA\, 16331\, United States
END:VEVENT
BEGIN:VEVENT
DTSTART;TZID=America/New_York:20240818T140000
DTEND;TZID=America/New_York:20240818T180000
DTSTAMP:20260419T192050
CREATED:20240801T200738Z
LAST-MODIFIED:20240801T200738Z
UID:4984-1723989600-1724004000@hilevelgc.com
SUMMARY:First Church of God Golf Outing
DESCRIPTION:$260 per foursome.  Sponsorship opportunities available.\nBenefits The Life Center (formerly the ABC Pregnancy Center)\, which provides compassionate\, holistic care and support for anyone making decisions about unintended pregnancy.  All the Life Center services are offered free of charge.
URL:https://hilevelgc.com/event/first-church-of-god-golf-outing-3/
LOCATION:PA
END:VEVENT
END:VCALENDAR