BEGIN:VCALENDAR
VERSION:2.0
PRODID:-//Hi-Level Golf Course - ECPv5.16.3.1//NONSGML v1.0//EN
CALSCALE:GREGORIAN
METHOD:PUBLISH
X-WR-CALNAME:Hi-Level Golf Course
X-ORIGINAL-URL:https://hilevelgc.com
X-WR-CALDESC:Events for Hi-Level Golf Course
REFRESH-INTERVAL;VALUE=DURATION:PT1H
X-Robots-Tag:noindex
X-PUBLISHED-TTL:PT1H
BEGIN:VTIMEZONE
TZID:America/New_York
BEGIN:DAYLIGHT
TZOFFSETFROM:-0500
TZOFFSETTO:-0400
TZNAME:EDT
DTSTART:20220313T070000
END:DAYLIGHT
BEGIN:STANDARD
TZOFFSETFROM:-0400
TZOFFSETTO:-0500
TZNAME:EST
DTSTART:20221106T060000
END:STANDARD
TZID:UTC
BEGIN:STANDARD
TZOFFSETFROM:+0000
TZOFFSETTO:+0000
TZNAME:UTC
DTSTART:20220101T000000
END:STANDARD
END:VTIMEZONE
BEGIN:VEVENT
DTSTART;TZID=America/New_York:20220824T090000
DTEND;TZID=America/New_York:20220824T130000
DTSTAMP:20260425T210157
CREATED:20220730T223400Z
LAST-MODIFIED:20220730T223400Z
UID:4427-1661331600-1661346000@hilevelgc.com
SUMMARY:Senior Scramble League
DESCRIPTION:This fun drop in league is open to seniors 60 and over! Just $22 for greens fee and cart and $8 for prizes\, coffee and donuts! Be here by 8:30 to register for the blind draw! For more information call the pro shop at 814-797-1813
URL:https://hilevelgc.com/event/senior-scramble-league-36/
LOCATION:Hi-Level Golf Course\, 148 High Level Lane\, Kossuth\, PA\, 16331\, United States
END:VEVENT
BEGIN:VEVENT
DTSTART;TZID=America/New_York:20220823T160000
DTEND;TZID=America/New_York:20220823T183000
DTSTAMP:20260425T210157
CREATED:20220823T190847Z
LAST-MODIFIED:20220823T190847Z
UID:4461-1661270400-1661279400@hilevelgc.com
SUMMARY:High School Golf Match
DESCRIPTION:Front nine closed from 4-6:30
URL:https://hilevelgc.com/event/high-school-golf-match/
LOCATION:Hi-Level Golf Course\, 148 High Level Lane\, Kossuth\, PA\, 16331\, United States
END:VEVENT
BEGIN:VEVENT
DTSTART;TZID=America/New_York:20220821T140000
DTEND;TZID=America/New_York:20220821T180000
DTSTAMP:20260425T210157
CREATED:20220818T201851Z
LAST-MODIFIED:20220818T201851Z
UID:4457-1661090400-1661104800@hilevelgc.com
SUMMARY:First Church of God Golf Outing
DESCRIPTION:
URL:https://hilevelgc.com/event/first-church-of-god-golf-outing-2/
LOCATION:Hi-Level Golf Course\, 148 High Level Lane\, Kossuth\, PA\, 16331\, United States
END:VEVENT
BEGIN:VEVENT
DTSTART;TZID=America/New_York:20220820T090000
DTEND;TZID=America/New_York:20220820T140000
DTSTAMP:20260425T210157
CREATED:20220818T200243Z
LAST-MODIFIED:20220818T200243Z
UID:4453-1660986000-1661004000@hilevelgc.com
SUMMARY:PPC Golf Scramble
DESCRIPTION:
URL:https://hilevelgc.com/event/ppc-golf-scramble/
LOCATION:Hi-Level Golf Course\, 148 High Level Lane\, Kossuth\, PA\, 16331\, United States
END:VEVENT
BEGIN:VEVENT
DTSTART;TZID=America/New_York:20220819T090000
DTEND;TZID=America/New_York:20220819T140000
DTSTAMP:20260425T210157
CREATED:20220818T194636Z
LAST-MODIFIED:20220818T194636Z
UID:4451-1660899600-1660917600@hilevelgc.com
SUMMARY:Sleepy Hollow Seniors
DESCRIPTION:Course will be closed till 2pm!
URL:https://hilevelgc.com/event/sleepy-hollow-seniors/
LOCATION:Hi-Level Golf Course\, 148 High Level Lane\, Kossuth\, PA\, 16331\, United States
END:VEVENT
BEGIN:VEVENT
DTSTART;TZID=America/New_York:20220818T080000
DTEND;TZID=America/New_York:20220818T170000
DTSTAMP:20260425T210157
CREATED:20220811T171652Z
LAST-MODIFIED:20220811T171652Z
UID:4440-1660809600-1660842000@hilevelgc.com
SUMMARY:Men’s League
DESCRIPTION:Call for tee times! Over 60 group plays 9 holes between 8-10 am and Under 60 group plays front and back 9 between 3:30 and 5:30.
URL:https://hilevelgc.com/event/mens-league-15/
LOCATION:Hi-Level Golf Course\, 148 High Level Lane\, Kossuth\, PA\, 16331\, United States
END:VEVENT
BEGIN:VEVENT
DTSTART;TZID=America/New_York:20220817T090000
DTEND;TZID=America/New_York:20220817T130000
DTSTAMP:20260425T210157
CREATED:20220730T223246Z
LAST-MODIFIED:20220730T223246Z
UID:4425-1660726800-1660741200@hilevelgc.com
SUMMARY:Senior Scramble League
DESCRIPTION:This fun drop in league is open to seniors 60 and over! Just $22 for greens fee and cart and $8 for prizes\, coffee and donuts! Be here by 8:30 to register for the blind draw! For more information call the pro shop at 814-797-1813
URL:https://hilevelgc.com/event/senior-scramble-league-35/
LOCATION:Hi-Level Golf Course\, 148 High Level Lane\, Kossuth\, PA\, 16331\, United States
END:VEVENT
BEGIN:VEVENT
DTSTART;TZID=America/New_York:20220814T090000
DTEND;TZID=America/New_York:20220814T133000
DTSTAMP:20260425T210157
CREATED:20220811T171336Z
LAST-MODIFIED:20220811T171336Z
UID:4434-1660467600-1660483800@hilevelgc.com
SUMMARY:Shawn Rehberg Memorial Scramble
DESCRIPTION:This event is full. Tee times available after 2pm.
URL:https://hilevelgc.com/event/shawn-rehberg-memorial-scramble-2/
LOCATION:Hi-Level Golf Course\, 148 High Level Lane\, Kossuth\, PA\, 16331\, United States
END:VEVENT
BEGIN:VEVENT
DTSTART;TZID=America/New_York:20220813T080000
DTEND;TZID=America/New_York:20220813T170000
DTSTAMP:20260425T210157
CREATED:20220811T171420Z
LAST-MODIFIED:20220811T171420Z
UID:4436-1660377600-1660410000@hilevelgc.com
SUMMARY:Call for tee times
DESCRIPTION:
URL:https://hilevelgc.com/event/call-for-tee-times/
LOCATION:Hi-Level Golf Course\, 148 High Level Lane\, Kossuth\, PA\, 16331\, United States
END:VEVENT
BEGIN:VEVENT
DTSTART;TZID=America/New_York:20220811T080000
DTEND;TZID=America/New_York:20220811T170000
DTSTAMP:20260425T210157
CREATED:20220811T171554Z
LAST-MODIFIED:20220811T171554Z
UID:4438-1660204800-1660237200@hilevelgc.com
SUMMARY:Men’s League
DESCRIPTION:Call for tee times! Over 60 group plays 9 holes between 8-10 am and Under 60 group plays front and back 9 between 3:30 and 5:30.
URL:https://hilevelgc.com/event/mens-league-14/
LOCATION:Hi-Level Golf Course\, 148 High Level Lane\, Kossuth\, PA\, 16331\, United States
END:VEVENT
BEGIN:VEVENT
DTSTART;TZID=America/New_York:20220810T090000
DTEND;TZID=America/New_York:20220810T130000
DTSTAMP:20260425T210157
CREATED:20220730T223118Z
LAST-MODIFIED:20220730T223118Z
UID:4423-1660122000-1660136400@hilevelgc.com
SUMMARY:Senior Scramble League
DESCRIPTION:This fun drop in league is open to seniors 60 and over! Just $22 for greens fee and cart and $8 for prizes\, coffee and donuts! Be here by 8:30 to register for the blind draw! For more information call the pro shop at 814-797-1813
URL:https://hilevelgc.com/event/senior-scramble-league-34/
LOCATION:Hi-Level Golf Course\, 148 High Level Lane\, Kossuth\, PA\, 16331\, United States
END:VEVENT
BEGIN:VEVENT
DTSTART;TZID=America/New_York:20220807T140000
DTEND;TZID=America/New_York:20220807T180000
DTSTAMP:20260425T210157
CREATED:20220730T221535Z
LAST-MODIFIED:20220730T221535Z
UID:4411-1659880800-1659895200@hilevelgc.com
SUMMARY:Trinity Point Golf Scramble
DESCRIPTION:
URL:https://hilevelgc.com/event/trinity-point-golf-scramble-2/
LOCATION:Hi-Level Golf Course\, 148 High Level Lane\, Kossuth\, PA\, 16331\, United States
END:VEVENT
BEGIN:VEVENT
DTSTART;TZID=America/New_York:20220807T090000
DTEND;TZID=America/New_York:20220807T130000
DTSTAMP:20260425T210157
CREATED:20220730T221853Z
LAST-MODIFIED:20220730T221853Z
UID:4414-1659862800-1659877200@hilevelgc.com
SUMMARY:Fryburg Sportsman’s Club Golf Scramble
DESCRIPTION:One member of your team must be a Fryburg Sportsman’s Club Member. Call the club to register.
URL:https://hilevelgc.com/event/fryburg-sportsmans-club-golf-scramble-2/
LOCATION:Hi-Level Golf Course\, 148 High Level Lane\, Kossuth\, PA\, 16331\, United States
END:VEVENT
BEGIN:VEVENT
DTSTART;TZID=America/New_York:20220806T090000
DTEND;TZID=America/New_York:20220806T130000
DTSTAMP:20260425T210157
CREATED:20220730T222245Z
LAST-MODIFIED:20220730T222245Z
UID:4416-1659776400-1659790800@hilevelgc.com
SUMMARY:Clarion University Swimming and Diving Golf Scramble
DESCRIPTION:
URL:https://hilevelgc.com/event/clarion-university-swimming-and-diving-golf-scramble-2/
LOCATION:Hi-Level Golf Course\, 148 High Level Lane\, Kossuth\, PA\, 16331\, United States
END:VEVENT
BEGIN:VEVENT
DTSTART;TZID=America/New_York:20220803T090000
DTEND;TZID=America/New_York:20220803T130000
DTSTAMP:20260425T210157
CREATED:20220730T222425Z
LAST-MODIFIED:20220730T223008Z
UID:4419-1659517200-1659531600@hilevelgc.com
SUMMARY:Senior Scramble League
DESCRIPTION:This fun drop in league is open to seniors 60 and over! Just $22 for greens fee and cart and $8 for prizes\, coffee and donuts! Be here by 8:30 to register for the blind draw! For more information call the pro shop at 814-797-1813
URL:https://hilevelgc.com/event/senior-scramble-league-33/
LOCATION:Hi-Level Golf Course\, 148 High Level Lane\, Kossuth\, PA\, 16331\, United States
END:VEVENT
BEGIN:VEVENT
DTSTART;TZID=America/New_York:20220802T090000
DTEND;TZID=America/New_York:20220802T133000
DTSTAMP:20260425T210157
CREATED:20220726T144750Z
LAST-MODIFIED:20220726T144750Z
UID:4391-1659430800-1659447000@hilevelgc.com
SUMMARY:Hi-Level Junior Open
DESCRIPTION:
URL:https://hilevelgc.com/event/hi-level-junior-open/
LOCATION:Hi-Level Golf Course\, 148 High Level Lane\, Kossuth\, PA\, 16331\, United States
END:VEVENT
BEGIN:VEVENT
DTSTART;TZID=America/New_York:20220731T090000
DTEND;TZID=America/New_York:20220731T130000
DTSTAMP:20260425T210157
CREATED:20220723T211759Z
LAST-MODIFIED:20220723T211759Z
UID:4388-1659258000-1659272400@hilevelgc.com
SUMMARY:Ohnahdagon Memorial Golf Scramble
DESCRIPTION:
URL:https://hilevelgc.com/event/ohnahdagon-memorial-golf-scramble-2/
LOCATION:Hi-Level Golf Course\, 148 High Level Lane\, Kossuth\, PA\, 16331\, United States
END:VEVENT
BEGIN:VEVENT
DTSTART;TZID=America/New_York:20220730T090000
DTEND;TZID=America/New_York:20220730T133000
DTSTAMP:20260425T210157
CREATED:20220719T232741Z
LAST-MODIFIED:20220719T232741Z
UID:4386-1659171600-1659187800@hilevelgc.com
SUMMARY:Oil City Eagle Scramble
DESCRIPTION:Call for tee times
URL:https://hilevelgc.com/event/oil-city-eagle-scramble/
LOCATION:Hi-Level Golf Course\, 148 High Level Lane\, Kossuth\, PA\, 16331\, United States
END:VEVENT
BEGIN:VEVENT
DTSTART;TZID=America/New_York:20220728T080000
DTEND;TZID=America/New_York:20220728T173000
DTSTAMP:20260425T210157
CREATED:20220704T223023Z
LAST-MODIFIED:20220704T223023Z
UID:4353-1658995200-1659029400@hilevelgc.com
SUMMARY:Men’s League
DESCRIPTION:Call for tee times! Over 60 group plays 9 holes between 8-10 am and Under 60 group plays front and back 9 between 3:30 and 5:30.
URL:https://hilevelgc.com/event/mens-league-13/
LOCATION:Hi-Level Golf Course\, 148 High Level Lane\, Kossuth\, PA\, 16331\, United States
END:VEVENT
BEGIN:VEVENT
DTSTART;TZID=America/New_York:20220727T090000
DTEND;TZID=America/New_York:20220727T130000
DTSTAMP:20260425T210157
CREATED:20220704T222506Z
LAST-MODIFIED:20220704T222506Z
UID:4345-1658912400-1658926800@hilevelgc.com
SUMMARY:Senior Scramble League
DESCRIPTION:This fun drop in league is open to seniors 60 and over! Just $22 for greens fee and cart and $8 for prizes\, coffee and donuts! Be here by 8:30 to register for the blind draw! For more information call the pro shop at 814-797-1813
URL:https://hilevelgc.com/event/senior-scramble-league-32/
LOCATION:Hi-Level Golf Course\, 148 High Level Lane\, Kossuth\, PA\, 16331\, United States
END:VEVENT
BEGIN:VEVENT
DTSTART;TZID=America/New_York:20220724T100000
DTEND;TZID=America/New_York:20220724T140000
DTSTAMP:20260425T210157
CREATED:20220719T232601Z
LAST-MODIFIED:20220719T232601Z
UID:4384-1658656800-1658671200@hilevelgc.com
SUMMARY:Brookville Eagles
DESCRIPTION:Call for tee times
URL:https://hilevelgc.com/event/brookville-eagles-2/
LOCATION:Hi-Level Golf Course\, 148 High Level Lane\, Kossuth\, PA\, 16331\, United States
END:VEVENT
BEGIN:VEVENT
DTSTART;TZID=America/New_York:20220723T090000
DTEND;TZID=America/New_York:20220723T130000
DTSTAMP:20260425T210157
CREATED:20220719T232400Z
LAST-MODIFIED:20220719T232400Z
UID:4382-1658566800-1658581200@hilevelgc.com
SUMMARY:Universal Forest Products
DESCRIPTION:Call for tee times
URL:https://hilevelgc.com/event/universal-forest-products/
LOCATION:Hi-Level Golf Course\, 148 High Level Lane\, Kossuth\, PA\, 16331\, United States
END:VEVENT
BEGIN:VEVENT
DTSTART;TZID=America/New_York:20220722T170000
DTEND;TZID=America/New_York:20220722T190000
DTSTAMP:20260425T210157
CREATED:20220719T232235Z
LAST-MODIFIED:20220719T232235Z
UID:4380-1658509200-1658516400@hilevelgc.com
SUMMARY:Couples scramble
DESCRIPTION:Call the pro shop for more information
URL:https://hilevelgc.com/event/couples-scramble/
LOCATION:Hi-Level Golf Course\, 148 High Level Lane\, Kossuth\, PA\, 16331\, United States
END:VEVENT
BEGIN:VEVENT
DTSTART;TZID=America/New_York:20220721T080000
DTEND;TZID=America/New_York:20220721T173000
DTSTAMP:20260425T210157
CREATED:20220704T222920Z
LAST-MODIFIED:20220704T222920Z
UID:4351-1658390400-1658424600@hilevelgc.com
SUMMARY:Men’s League
DESCRIPTION:Call for tee times! Over 60 group plays 9 holes between 8-10 am and Under 60 group plays front and back 9 between 3:30 and 5:30.
URL:https://hilevelgc.com/event/mens-league-12/
LOCATION:Hi-Level Golf Course\, 148 High Level Lane\, Kossuth\, PA\, 16331\, United States
END:VEVENT
BEGIN:VEVENT
DTSTART;TZID=America/New_York:20220720T090000
DTEND;TZID=America/New_York:20220720T130000
DTSTAMP:20260425T210157
CREATED:20220704T222405Z
LAST-MODIFIED:20220704T222405Z
UID:4343-1658307600-1658322000@hilevelgc.com
SUMMARY:Senior Scramble League
DESCRIPTION:This fun drop in league is open to seniors 60 and over! Just $22 for greens fee and cart and $8 for prizes\, coffee and donuts! Be here by 8:30 to register for the blind draw! For more information call the pro shop at 814-797-1813
URL:https://hilevelgc.com/event/senior-scramble-league-31/
LOCATION:Hi-Level Golf Course\, 148 High Level Lane\, Kossuth\, PA\, 16331\, United States
END:VEVENT
BEGIN:VEVENT
DTSTART;TZID=UTC:20220717T140000
DTEND;TZID=UTC:20220717T180000
DTSTAMP:20260425T210157
CREATED:20220420T185001Z
LAST-MODIFIED:20220420T185001Z
UID:4276-1658066400-1658080800@hilevelgc.com
SUMMARY:K of C Emlenton golf scramble
DESCRIPTION:Use this link for more information and to register \nhttps://charitygolftoday.com/knightscolumbus4602
URL:https://hilevelgc.com/event/k-of-c-emlenton-golf-scramble/
LOCATION:Hi-Level Golf Course\, 148 High Level Lane\, Kossuth\, PA\, 16331\, United States
END:VEVENT
BEGIN:VEVENT
DTSTART;TZID=America/New_York:20220717T090000
DTEND;TZID=America/New_York:20220717T133000
DTSTAMP:20260425T210157
CREATED:20220711T230838Z
LAST-MODIFIED:20220711T230838Z
UID:4372-1658048400-1658064600@hilevelgc.com
SUMMARY:Sons of Legion Golf Scramble
DESCRIPTION:
URL:https://hilevelgc.com/event/sons-of-legion-golf-scramble/
LOCATION:Hi-Level Golf Course\, 148 High Level Lane\, Kossuth\, PA\, 16331\, United States
END:VEVENT
BEGIN:VEVENT
DTSTART;TZID=America/New_York:20220716T090000
DTEND;TZID=America/New_York:20220716T133000
DTSTAMP:20260425T210157
CREATED:20220711T230705Z
LAST-MODIFIED:20220711T230705Z
UID:4368-1657962000-1657978200@hilevelgc.com
SUMMARY:Shriners Golf Scramble
DESCRIPTION:
URL:https://hilevelgc.com/event/shriners-golf-scramble/
LOCATION:Hi-Level Golf Course\, 148 High Level Lane\, Kossuth\, PA\, 16331\, United States
END:VEVENT
BEGIN:VEVENT
DTSTART;TZID=America/New_York:20220715T080000
DTEND;TZID=America/New_York:20220715T100000
DTSTAMP:20260425T210157
CREATED:20220711T230958Z
LAST-MODIFIED:20220711T230958Z
UID:4375-1657872000-1657879200@hilevelgc.com
SUMMARY:Camp Iron Open
DESCRIPTION:Call for tee times
URL:https://hilevelgc.com/event/camp-iron-open/
LOCATION:Hi-Level Golf Course\, 148 High Level Lane\, Kossuth\, PA\, 16331\, United States
END:VEVENT
BEGIN:VEVENT
DTSTART;TZID=America/New_York:20220714T080000
DTEND;TZID=America/New_York:20220714T173000
DTSTAMP:20260425T210157
CREATED:20220704T222818Z
LAST-MODIFIED:20220704T222818Z
UID:4349-1657785600-1657819800@hilevelgc.com
SUMMARY:Men’s League
DESCRIPTION:Call for tee times! Over 60 group plays 9 holes between 8-10 am and Under 60 group plays front and back 9 between 3:30 and 5:30.
URL:https://hilevelgc.com/event/mens-league-11/
LOCATION:Hi-Level Golf Course\, 148 High Level Lane\, Kossuth\, PA\, 16331\, United States
END:VEVENT
END:VCALENDAR