BEGIN:VCALENDAR
VERSION:2.0
PRODID:-//Hi-Level Golf Course - ECPv5.16.3.1//NONSGML v1.0//EN
CALSCALE:GREGORIAN
METHOD:PUBLISH
X-WR-CALNAME:Hi-Level Golf Course
X-ORIGINAL-URL:https://hilevelgc.com
X-WR-CALDESC:Events for Hi-Level Golf Course
REFRESH-INTERVAL;VALUE=DURATION:PT1H
X-Robots-Tag:noindex
X-PUBLISHED-TTL:PT1H
BEGIN:VTIMEZONE
TZID:America/New_York
BEGIN:DAYLIGHT
TZOFFSETFROM:-0500
TZOFFSETTO:-0400
TZNAME:EDT
DTSTART:20230312T070000
END:DAYLIGHT
BEGIN:STANDARD
TZOFFSETFROM:-0400
TZOFFSETTO:-0500
TZNAME:EST
DTSTART:20231105T060000
END:STANDARD
END:VTIMEZONE
BEGIN:VEVENT
DTSTART;TZID=America/New_York:20230830T090000
DTEND;TZID=America/New_York:20230830T130000
DTSTAMP:20260421T155916
CREATED:20230730T161011Z
LAST-MODIFIED:20230730T161011Z
UID:4669-1693386000-1693400400@hilevelgc.com
SUMMARY:Senior Scramble League
DESCRIPTION:This fun drop in league is open to seniors 60 and over! Just $22 for greens fee and cart and $8 for prizes\, coffee and donuts! Be here by 8:30 to register for the blind draw! For more information call the pro shop at 814-797-1813
URL:https://hilevelgc.com/event/senior-scramble-league-59/
LOCATION:Hi-Level Golf Course\, 148 High Level Lane\, Kossuth\, PA\, 16331\, United States
END:VEVENT
BEGIN:VEVENT
DTSTART;TZID=America/New_York:20230827T090000
DTEND;TZID=America/New_York:20230827T133000
DTSTAMP:20260421T155916
CREATED:20230802T154143Z
LAST-MODIFIED:20230802T154143Z
UID:4704-1693126800-1693143000@hilevelgc.com
SUMMARY:Clarion Eagles Golf Scramble
DESCRIPTION:Sign up your teams at the Eagles Club in Clarion
URL:https://hilevelgc.com/event/clarion-eagles-golf-scramble-4/
LOCATION:Hi-Level Golf Course\, 148 High Level Lane\, Kossuth\, PA\, 16331\, United States
END:VEVENT
BEGIN:VEVENT
DTSTART;TZID=America/New_York:20230826T093000
DTEND;TZID=America/New_York:20230826T143000
DTSTAMP:20260421T155916
CREATED:20230802T154011Z
LAST-MODIFIED:20230802T154011Z
UID:4702-1693042200-1693060200@hilevelgc.com
SUMMARY:Otto’s Golf Scramble
DESCRIPTION:Sign up at Otto’s in Emlenton
URL:https://hilevelgc.com/event/ottos-golf-scramble-2/
LOCATION:Hi-Level Golf Course\, 148 High Level Lane\, Kossuth\, PA\, 16331\, United States
END:VEVENT
BEGIN:VEVENT
DTSTART;TZID=America/New_York:20230825T130000
DTEND;TZID=America/New_York:20230825T170000
DTSTAMP:20260421T155916
CREATED:20230802T153854Z
LAST-MODIFIED:20230802T153854Z
UID:4700-1692968400-1692982800@hilevelgc.com
SUMMARY:Joy/Matric golf outing
DESCRIPTION:1pm shotgun. Call for tee times
URL:https://hilevelgc.com/event/joy-matric-golf-outing/
LOCATION:Hi-Level Golf Course\, 148 High Level Lane\, Kossuth\, PA\, 16331\, United States
END:VEVENT
BEGIN:VEVENT
DTSTART;TZID=America/New_York:20230824T080000
DTEND;TZID=America/New_York:20230824T170000
DTSTAMP:20260421T155916
CREATED:20230819T214531Z
LAST-MODIFIED:20230819T214531Z
UID:4718-1692864000-1692896400@hilevelgc.com
SUMMARY:Men’s League
DESCRIPTION:Call for tee times! Over 60 group plays 9 holes between 8-10 am and Under 60 group plays front and back 9 between 3:30 and 5:30.
URL:https://hilevelgc.com/event/mens-league-31/
LOCATION:Hi-Level Golf Course\, 148 High Level Lane\, Kossuth\, PA\, 16331\, United States
END:VEVENT
BEGIN:VEVENT
DTSTART;TZID=America/New_York:20230823T140000
DTEND;TZID=America/New_York:20230823T160000
DTSTAMP:20260421T155916
CREATED:20230819T213837Z
LAST-MODIFIED:20230819T213837Z
UID:4711-1692799200-1692806400@hilevelgc.com
SUMMARY:KSAC Girls Golf Match
DESCRIPTION:Shotgun start at 2pm on front 9.\nBack 9 will be open.
URL:https://hilevelgc.com/event/ksac-girls-golf-match-3/
LOCATION:Hi-Level Golf Course\, 148 High Level Lane\, Kossuth\, PA\, 16331\, United States
END:VEVENT
BEGIN:VEVENT
DTSTART;TZID=America/New_York:20230823T090000
DTEND;TZID=America/New_York:20230823T130000
DTSTAMP:20260421T155916
CREATED:20230730T161110Z
LAST-MODIFIED:20230730T161110Z
UID:4671-1692781200-1692795600@hilevelgc.com
SUMMARY:Senior Scramble League
DESCRIPTION:This fun drop in league is open to seniors 60 and over! Just $22 for greens fee and cart and $8 for prizes\, coffee and donuts! Be here by 8:30 to register for the blind draw! For more information call the pro shop at 814-797-1813
URL:https://hilevelgc.com/event/senior-scramble-league-60/
LOCATION:Hi-Level Golf Course\, 148 High Level Lane\, Kossuth\, PA\, 16331\, United States
END:VEVENT
BEGIN:VEVENT
DTSTART;TZID=America/New_York:20230821T160000
DTEND;TZID=America/New_York:20230821T180000
DTSTAMP:20260421T155916
CREATED:20230802T153707Z
LAST-MODIFIED:20230802T153707Z
UID:4698-1692633600-1692640800@hilevelgc.com
SUMMARY:KSAC Girls Golf Match
DESCRIPTION:4pm shotgun. Front nine closed till 6.
URL:https://hilevelgc.com/event/ksac-girls-golf-match/
LOCATION:Hi-Level Golf Course\, 148 High Level Lane\, Kossuth\, PA\, 16331\, United States
END:VEVENT
BEGIN:VEVENT
DTSTART;TZID=America/New_York:20230820T140000
DTEND;TZID=America/New_York:20230820T180000
DTSTAMP:20260421T155916
CREATED:20230819T214401Z
LAST-MODIFIED:20230819T214401Z
UID:4715-1692540000-1692554400@hilevelgc.com
SUMMARY:First Church of God Golf Scramble
DESCRIPTION:
URL:https://hilevelgc.com/event/first-church-of-god-golf-scramble/
LOCATION:Hi-Level Golf Course\, 148 High Level Lane\, Kossuth\, PA\, 16331\, United States
END:VEVENT
BEGIN:VEVENT
DTSTART;TZID=America/New_York:20230819T090000
DTEND;TZID=America/New_York:20230819T130000
DTSTAMP:20260421T155916
CREATED:20230819T213938Z
LAST-MODIFIED:20230819T213938Z
UID:4713-1692435600-1692450000@hilevelgc.com
SUMMARY:PPC Golf Scramble
DESCRIPTION:Course closed till 1:30
URL:https://hilevelgc.com/event/ppc-golf-scramble-2/
LOCATION:Hi-Level Golf Course\, 148 High Level Lane\, Kossuth\, PA\, 16331\, United States
END:VEVENT
BEGIN:VEVENT
DTSTART;TZID=America/New_York:20230818T090000
DTEND;TZID=America/New_York:20230818T140000
DTSTAMP:20260421T155916
CREATED:20230802T153537Z
LAST-MODIFIED:20230802T153537Z
UID:4696-1692349200-1692367200@hilevelgc.com
SUMMARY:Sleepy Hollow Seniors
DESCRIPTION:9 am shotgun. Course closed till 2pm
URL:https://hilevelgc.com/event/sleepy-hollow-seniors-2/
LOCATION:Hi-Level Golf Course\, 148 High Level Lane\, Kossuth\, PA\, 16331\, United States
END:VEVENT
BEGIN:VEVENT
DTSTART;TZID=America/New_York:20230816T090000
DTEND;TZID=America/New_York:20230816T130000
DTSTAMP:20260421T155916
CREATED:20230730T161245Z
LAST-MODIFIED:20230730T161245Z
UID:4673-1692176400-1692190800@hilevelgc.com
SUMMARY:Senior Scramble League
DESCRIPTION:This fun drop in league is open to seniors 60 and over! Just $22 for greens fee and cart and $8 for prizes\, coffee and donuts! Be here by 8:30 to register for the blind draw! For more information call the pro shop at 814-797-1813
URL:https://hilevelgc.com/event/senior-scramble-league-61/
LOCATION:Hi-Level Golf Course\, 148 High Level Lane\, Kossuth\, PA\, 16331\, United States
END:VEVENT
BEGIN:VEVENT
DTSTART;TZID=America/New_York:20230815T160000
DTEND;TZID=America/New_York:20230815T183000
DTSTAMP:20260421T155916
CREATED:20230802T153416Z
LAST-MODIFIED:20230802T153416Z
UID:4694-1692115200-1692124200@hilevelgc.com
SUMMARY:KSAC Boys Golf Match
DESCRIPTION:4pm shotgun front 9.\nCall for tee times
URL:https://hilevelgc.com/event/ksac-boys-golf-match/
LOCATION:Hi-Level Golf Course\, 148 High Level Lane\, Kossuth\, PA\, 16331\, United States
END:VEVENT
BEGIN:VEVENT
DTSTART;TZID=America/New_York:20230813T090000
DTEND;TZID=America/New_York:20230813T140000
DTSTAMP:20260421T155916
CREATED:20230730T161517Z
LAST-MODIFIED:20230730T161517Z
UID:4675-1691917200-1691935200@hilevelgc.com
SUMMARY:Shawn Rehberg Memorial Scramble
DESCRIPTION:Event is full
URL:https://hilevelgc.com/event/shawn-rehberg-memorial-scramble-3/
LOCATION:Hi-Level Golf Course\, 148 High Level Lane\, Kossuth\, PA\, 16331\, United States
END:VEVENT
BEGIN:VEVENT
DTSTART;TZID=America/New_York:20230812T140000
DTEND;TZID=America/New_York:20230812T180000
DTSTAMP:20260421T155916
CREATED:20230802T153145Z
LAST-MODIFIED:20230802T153145Z
UID:4692-1691848800-1691863200@hilevelgc.com
SUMMARY:Vaughn Couples group/Tylersburg group
DESCRIPTION:Private event. 2pm shotgun start.
URL:https://hilevelgc.com/event/vaughn-couples-group-tylersburg-group/
LOCATION:Hi-Level Golf Course\, 148 High Level Lane\, Kossuth\, PA\, 16331\, United States
END:VEVENT
BEGIN:VEVENT
DTSTART;TZID=America/New_York:20230812T090000
DTEND;TZID=America/New_York:20230812T140000
DTSTAMP:20260421T155916
CREATED:20230802T152939Z
LAST-MODIFIED:20230802T152939Z
UID:4690-1691830800-1691848800@hilevelgc.com
SUMMARY:Sonneborn/Witco outing
DESCRIPTION:Private event. Course closed till 2. Call for tee times.
URL:https://hilevelgc.com/event/sonneborn-witco-outing/
LOCATION:Hi-Level Golf Course\, 148 High Level Lane\, Kossuth\, PA\, 16331\, United States
END:VEVENT
BEGIN:VEVENT
DTSTART;TZID=America/New_York:20230809T090000
DTEND;TZID=America/New_York:20230809T130000
DTSTAMP:20260421T155916
CREATED:20230730T160736Z
LAST-MODIFIED:20230730T160736Z
UID:4667-1691571600-1691586000@hilevelgc.com
SUMMARY:Senior Scramble League
DESCRIPTION:This fun drop in league is open to seniors 60 and over! Just $22 for greens fee and cart and $8 for prizes\, coffee and donuts! Be here by 8:30 to register for the blind draw! For more information call the pro shop at 814-797-1813
URL:https://hilevelgc.com/event/senior-scramble-league-58/
LOCATION:Hi-Level Golf Course\, 148 High Level Lane\, Kossuth\, PA\, 16331\, United States
END:VEVENT
BEGIN:VEVENT
DTSTART;TZID=America/New_York:20230806T090000
DTEND;TZID=America/New_York:20230806T130000
DTSTAMP:20260421T155916
CREATED:20230802T150022Z
LAST-MODIFIED:20230802T150022Z
UID:4677-1691312400-1691326800@hilevelgc.com
SUMMARY:Fryburg Sportsmen’s Club Scramble
DESCRIPTION:Event is full
URL:https://hilevelgc.com/event/fryburg-sportsmens-club-scramble/
LOCATION:Hi-Level Golf Course\, 148 High Level Lane\, Kossuth\, PA\, 16331\, United States
END:VEVENT
BEGIN:VEVENT
DTSTART;TZID=America/New_York:20230805T130000
DTEND;TZID=America/New_York:20230805T140000
DTSTAMP:20260421T155916
CREATED:20230802T150846Z
LAST-MODIFIED:20230802T150846Z
UID:4682-1691240400-1691244000@hilevelgc.com
SUMMARY:Cokley Reunion Scramble
DESCRIPTION:Private event. Call for tee times.
URL:https://hilevelgc.com/event/cokley-reunion-scramble/
LOCATION:Hi-Level Golf Course\, 148 High Level Lane\, Kossuth\, PA\, 16331\, United States
END:VEVENT
BEGIN:VEVENT
DTSTART;TZID=America/New_York:20230805T090000
DTEND;TZID=America/New_York:20230805T130000
DTSTAMP:20260421T155916
CREATED:20230802T150556Z
LAST-MODIFIED:20230802T150556Z
UID:4679-1691226000-1691240400@hilevelgc.com
SUMMARY:Clarion Swimming and Diving Scramble
DESCRIPTION:
URL:https://hilevelgc.com/event/clarion-swimming-and-diving-scramble/
LOCATION:Hi-Level Golf Course\, 148 High Level Lane\, Kossuth\, PA\, 16331\, United States
END:VEVENT
BEGIN:VEVENT
DTSTART;TZID=America/New_York:20230804T090000
DTEND;TZID=America/New_York:20230804T100000
DTSTAMP:20260421T155916
CREATED:20230802T152058Z
LAST-MODIFIED:20230802T152058Z
UID:4688-1691139600-1691143200@hilevelgc.com
SUMMARY:Ron Bidwell group
DESCRIPTION:9am shotgun. Call for tee times
URL:https://hilevelgc.com/event/ron-bidwell-group-3/
LOCATION:Hi-Level Golf Course\, 148 High Level Lane\, Kossuth\, PA\, 16331\, United States
END:VEVENT
BEGIN:VEVENT
DTSTART;TZID=America/New_York:20230803T090000
DTEND;TZID=America/New_York:20230803T103000
DTSTAMP:20260421T155916
CREATED:20230802T151948Z
LAST-MODIFIED:20230802T151948Z
UID:4686-1691053200-1691058600@hilevelgc.com
SUMMARY:Ron Bidwell group
DESCRIPTION:Private event. Call for tee times
URL:https://hilevelgc.com/event/ron-bidwell-group-2/
LOCATION:Hi-Level Golf Course\, 148 High Level Lane\, Kossuth\, PA\, 16331\, United States
END:VEVENT
BEGIN:VEVENT
DTSTART;TZID=America/New_York:20230803T080000
DTEND;TZID=America/New_York:20230803T170000
DTSTAMP:20260421T155916
CREATED:20230625T205247Z
LAST-MODIFIED:20230625T205247Z
UID:4650-1691049600-1691082000@hilevelgc.com
SUMMARY:Men’s League
DESCRIPTION:Call for tee times! Over 60 group plays 9 holes between 8-10 am and Under 60 group plays front and back 9 between 3:30 and 5:30.
URL:https://hilevelgc.com/event/mens-league-30/
LOCATION:Hi-Level Golf Course\, 148 High Level Lane\, Kossuth\, PA\, 16331\, United States
END:VEVENT
BEGIN:VEVENT
DTSTART;TZID=America/New_York:20230802T130000
DTEND;TZID=America/New_York:20230802T140000
DTSTAMP:20260421T155916
CREATED:20230802T151830Z
LAST-MODIFIED:20230802T151830Z
UID:4684-1690981200-1690984800@hilevelgc.com
SUMMARY:Ron Bidwell group
DESCRIPTION:Private event. Call for tee times.
URL:https://hilevelgc.com/event/ron-bidwell-group/
LOCATION:Hi-Level Golf Course\, 148 High Level Lane\, Kossuth\, PA\, 16331\, United States
END:VEVENT
BEGIN:VEVENT
DTSTART;TZID=America/New_York:20230802T090000
DTEND;TZID=America/New_York:20230802T130000
DTSTAMP:20260421T155916
CREATED:20230730T160640Z
LAST-MODIFIED:20230730T160640Z
UID:4665-1690966800-1690981200@hilevelgc.com
SUMMARY:Senior Scramble League
DESCRIPTION:This fun drop in league is open to seniors 60 and over! Just $22 for greens fee and cart and $8 for prizes\, coffee and donuts! Be here by 8:30 to register for the blind draw! For more information call the pro shop at 814-797-1813
URL:https://hilevelgc.com/event/senior-scramble-league-57/
LOCATION:Hi-Level Golf Course\, 148 High Level Lane\, Kossuth\, PA\, 16331\, United States
END:VEVENT
BEGIN:VEVENT
DTSTART;TZID=America/New_York:20230730T100000
DTEND;TZID=America/New_York:20230730T140000
DTSTAMP:20260421T155916
CREATED:20230625T204212Z
LAST-MODIFIED:20230625T204212Z
UID:4634-1690711200-1690725600@hilevelgc.com
SUMMARY:Brookville Eagles
DESCRIPTION:10 am shotgun. Contact the Brookville Eagles for more information. Call for tee times.
URL:https://hilevelgc.com/event/brookville-eagles-3/
LOCATION:Hi-Level Golf Course\, 148 High Level Lane\, Kossuth\, PA\, 16331\, United States
END:VEVENT
BEGIN:VEVENT
DTSTART;TZID=America/New_York:20230729T090000
DTEND;TZID=America/New_York:20230729T140000
DTSTAMP:20260421T155916
CREATED:20230625T204322Z
LAST-MODIFIED:20230625T204322Z
UID:4636-1690621200-1690639200@hilevelgc.com
SUMMARY:Oil City Eagles
DESCRIPTION:Sign up at the Oil city Eagles club.
URL:https://hilevelgc.com/event/oil-city-eagles-2/
LOCATION:Hi-Level Golf Course\, 148 High Level Lane\, Kossuth\, PA\, 16331\, United States
END:VEVENT
BEGIN:VEVENT
DTSTART;TZID=America/New_York:20230728T120000
DTEND;TZID=America/New_York:20230728T140000
DTSTAMP:20260421T155916
CREATED:20230625T204428Z
LAST-MODIFIED:20230625T204428Z
UID:4638-1690545600-1690552800@hilevelgc.com
SUMMARY:Henry Group
DESCRIPTION:Call for tee times
URL:https://hilevelgc.com/event/henry-group/
LOCATION:Hi-Level Golf Course\, 148 High Level Lane\, Kossuth\, PA\, 16331\, United States
END:VEVENT
BEGIN:VEVENT
DTSTART;TZID=America/New_York:20230727T080000
DTEND;TZID=America/New_York:20230727T170000
DTSTAMP:20260421T155916
CREATED:20230625T205106Z
LAST-MODIFIED:20230625T205106Z
UID:4648-1690444800-1690477200@hilevelgc.com
SUMMARY:Men’s League
DESCRIPTION:Call for tee times! Over 60 group plays 9 holes between 8-10 am and Under 60 group plays front and back 9 between 3:30 and 5:30.
URL:https://hilevelgc.com/event/mens-league-29/
LOCATION:Hi-Level Golf Course\, 148 High Level Lane\, Kossuth\, PA\, 16331\, United States
END:VEVENT
BEGIN:VEVENT
DTSTART;TZID=America/New_York:20230726T090000
DTEND;TZID=America/New_York:20230726T130000
DTSTAMP:20260421T155916
CREATED:20230513T134858Z
LAST-MODIFIED:20230513T134858Z
UID:4579-1690362000-1690376400@hilevelgc.com
SUMMARY:Senior Scramble League
DESCRIPTION:This fun drop in league is open to seniors 60 and over! Just $22 for greens fee and cart and $8 for prizes\, coffee and donuts! Be here by 8:30 to register for the blind draw! For more information call the pro shop at 814-797-1813
URL:https://hilevelgc.com/event/senior-scramble-league-56/
LOCATION:Hi-Level Golf Course\, 148 High Level Lane\, Kossuth\, PA\, 16331\, United States
END:VEVENT
END:VCALENDAR