BEGIN:VCALENDAR
VERSION:2.0
PRODID:-//Hi-Level Golf Course - ECPv5.16.3.1//NONSGML v1.0//EN
CALSCALE:GREGORIAN
METHOD:PUBLISH
X-WR-CALNAME:Hi-Level Golf Course
X-ORIGINAL-URL:https://hilevelgc.com
X-WR-CALDESC:Events for Hi-Level Golf Course
REFRESH-INTERVAL;VALUE=DURATION:PT1H
X-Robots-Tag:noindex
X-PUBLISHED-TTL:PT1H
BEGIN:VTIMEZONE
TZID:America/New_York
BEGIN:DAYLIGHT
TZOFFSETFROM:-0500
TZOFFSETTO:-0400
TZNAME:EDT
DTSTART:20240310T070000
END:DAYLIGHT
BEGIN:STANDARD
TZOFFSETFROM:-0400
TZOFFSETTO:-0500
TZNAME:EST
DTSTART:20241103T060000
END:STANDARD
END:VTIMEZONE
BEGIN:VEVENT
DTSTART;TZID=America/New_York:20240614T100000
DTEND;TZID=America/New_York:20240614T140000
DTSTAMP:20260420T230409
CREATED:20240602T140529Z
LAST-MODIFIED:20240602T140529Z
UID:4881-1718359200-1718373600@hilevelgc.com
SUMMARY:21st Annual VARHA Golf Classic
DESCRIPTION:
URL:https://hilevelgc.com/event/21st-annual-varha-golf-classic/
LOCATION:Hi-Level Golf Course\, 148 High Level Lane\, Kossuth\, PA\, 16331\, United States
END:VEVENT
BEGIN:VEVENT
DTSTART;TZID=America/New_York:20240615T090000
DTEND;TZID=America/New_York:20240615T133000
DTSTAMP:20260420T230409
CREATED:20240602T140931Z
LAST-MODIFIED:20240602T140931Z
UID:4884-1718442000-1718458200@hilevelgc.com
SUMMARY:12th Annual Trinity Point Golf Scramble
DESCRIPTION:Screenshot
URL:https://hilevelgc.com/event/12th-annual-trinity-point-golf-scramble/
LOCATION:Hi-Level Golf Course\, 148 High Level Lane\, Kossuth\, PA\, 16331\, United States
END:VEVENT
BEGIN:VEVENT
DTSTART;TZID=America/New_York:20240615T133000
DTEND;TZID=America/New_York:20240615T143000
DTSTAMP:20260420T230409
CREATED:20240602T141241Z
LAST-MODIFIED:20240602T141241Z
UID:4887-1718458200-1718461800@hilevelgc.com
SUMMARY:Call for tee times
DESCRIPTION:Sedlock group 16-20 people at 1:30 \nCyphert group 20-24 people at 2:30
URL:https://hilevelgc.com/event/call-for-tee-times-6/
LOCATION:Hi-Level Golf Course\, 148 High Level Lane\, Kossuth\, PA\, 16331\, United States
END:VEVENT
BEGIN:VEVENT
DTSTART;TZID=America/New_York:20240616T080000
DTEND;TZID=America/New_York:20240616T170000
DTSTAMP:20260420T230409
CREATED:20240602T142123Z
LAST-MODIFIED:20240602T142123Z
UID:4889-1718524800-1718557200@hilevelgc.com
SUMMARY:Father’s Day!
DESCRIPTION:Please call for tee times!
URL:https://hilevelgc.com/event/fathers-day-2/
LOCATION:Hi-Level Golf Course\, 148 High Level Lane\, Kossuth\, PA\, 16331\, United States
END:VEVENT
BEGIN:VEVENT
DTSTART;TZID=America/New_York:20240618T173000
DTEND;TZID=America/New_York:20240618T183000
DTSTAMP:20260420T230409
CREATED:20240602T131453Z
LAST-MODIFIED:20240602T131453Z
UID:4843-1718731800-1718735400@hilevelgc.com
SUMMARY:Ladies Scramble League
DESCRIPTION:This fun league plays on Tuesdays starting at 5:30! This week they will play on the front nine.
URL:https://hilevelgc.com/event/ladies-scramble-league-4/
LOCATION:Hi-Level Golf Course\, 148 High Level Lane\, Kossuth\, PA\, 16331\, United States
END:VEVENT
BEGIN:VEVENT
DTSTART;TZID=America/New_York:20240619T090000
DTEND;TZID=America/New_York:20240619T130000
DTSTAMP:20260420T230409
CREATED:20240602T132630Z
LAST-MODIFIED:20240602T132630Z
UID:4853-1718787600-1718802000@hilevelgc.com
SUMMARY:Senior Scramble League
DESCRIPTION:This fun drop in league is open to seniors 60 and over! Just $22 for greens fee and cart and $6 for prizes\, coffee and donuts! Be here by 8:30 to register for the blind draw! For more information call the pro shop at 814-797-1813
URL:https://hilevelgc.com/event/senior-scramble-league-75/
LOCATION:Hi-Level Golf Course\, 148 High Level Lane\, Kossuth\, PA\, 16331\, United States
END:VEVENT
BEGIN:VEVENT
DTSTART;TZID=America/New_York:20240620T080000
DTEND;TZID=America/New_York:20240620T173000
DTSTAMP:20260420T230409
CREATED:20240602T133459Z
LAST-MODIFIED:20240602T133459Z
UID:4861-1718870400-1718904600@hilevelgc.com
SUMMARY:Men’s League
DESCRIPTION:Call for tee times! \nOver 60 group plays 9 holes between 8:00 a.m.- 10:00 a.m. \nUnder 60 group plays front and back 9 between 3:30 p.m. and 5:30 p.m.
URL:https://hilevelgc.com/event/mens-league-39/
LOCATION:Hi-Level Golf Course\, 148 High Level Lane\, Kossuth\, PA\, 16331\, United States
END:VEVENT
BEGIN:VEVENT
DTSTART;TZID=America/New_York:20240621T173000
DTEND;TZID=America/New_York:20240621T193000
DTSTAMP:20260420T230409
CREATED:20240602T162400Z
LAST-MODIFIED:20240602T162400Z
UID:4905-1718991000-1718998200@hilevelgc.com
SUMMARY:Hi-Level Couples Scramble
DESCRIPTION:
URL:https://hilevelgc.com/event/hi-level-couples-scramble/
LOCATION:Hi-Level Golf Course\, 148 High Level Lane\, Kossuth\, PA\, 16331\, United States
END:VEVENT
BEGIN:VEVENT
DTSTART;TZID=America/New_York:20240622T090000
DTEND;TZID=America/New_York:20240622T130000
DTSTAMP:20260420T230409
CREATED:20240602T145905Z
LAST-MODIFIED:20240602T145905Z
UID:4891-1719046800-1719061200@hilevelgc.com
SUMMARY:Tidioute VFW golf scramble
DESCRIPTION:Sign up at the VFW in Tidioute
URL:https://hilevelgc.com/event/tidioute-vfw-golf-scramble/
LOCATION:Hi-Level Golf Course\, 148 High Level Lane\, Kossuth\, PA\, 16331\, United States
END:VEVENT
BEGIN:VEVENT
DTSTART;TZID=America/New_York:20240622T140000
DTEND;TZID=America/New_York:20240622T180000
DTSTAMP:20260420T230409
CREATED:20240602T150542Z
LAST-MODIFIED:20240602T150542Z
UID:4893-1719064800-1719079200@hilevelgc.com
SUMMARY:Clarion Moose Golf Scramble
DESCRIPTION:
URL:https://hilevelgc.com/event/clarion-moose-golf-scramble-3/
LOCATION:Hi-Level Golf Course\, 148 High Level Lane\, Kossuth\, PA\, 16331\, United States
END:VEVENT
BEGIN:VEVENT
DTSTART;TZID=America/New_York:20240623T090000
DTEND;TZID=America/New_York:20240623T133000
DTSTAMP:20260420T230409
CREATED:20240602T150932Z
LAST-MODIFIED:20240602T150932Z
UID:4896-1719133200-1719149400@hilevelgc.com
SUMMARY:Keystone Soccer Golf Scramble
DESCRIPTION:
URL:https://hilevelgc.com/event/keystone-soccer-golf-scramble/
LOCATION:Hi-Level Golf Course\, 148 High Level Lane\, Kossuth\, PA\, 16331\, United States
END:VEVENT
BEGIN:VEVENT
DTSTART;TZID=America/New_York:20240625T090000
DTEND;TZID=America/New_York:20240625T140000
DTSTAMP:20260420T230409
CREATED:20240602T151909Z
LAST-MODIFIED:20240602T151909Z
UID:4902-1719306000-1719324000@hilevelgc.com
SUMMARY:Hi-Level Junior Open
DESCRIPTION:Screenshot
URL:https://hilevelgc.com/event/hi-level-junior-open-4/
LOCATION:Hi-Level Golf Course\, 148 High Level Lane\, Kossuth\, PA\, 16331\, United States
END:VEVENT
BEGIN:VEVENT
DTSTART;TZID=America/New_York:20240625T173000
DTEND;TZID=America/New_York:20240625T183000
DTSTAMP:20260420T230409
CREATED:20240602T131557Z
LAST-MODIFIED:20240602T131557Z
UID:4845-1719336600-1719340200@hilevelgc.com
SUMMARY:Ladies Scramble League
DESCRIPTION:This fun league plays on Tuesdays starting at 5:30! This week they will play on the back nine.
URL:https://hilevelgc.com/event/ladies-scramble-league-5/
LOCATION:Hi-Level Golf Course\, 148 High Level Lane\, Kossuth\, PA\, 16331\, United States
END:VEVENT
BEGIN:VEVENT
DTSTART;TZID=America/New_York:20240626T090000
DTEND;TZID=America/New_York:20240626T130000
DTSTAMP:20260420T230409
CREATED:20240602T132735Z
LAST-MODIFIED:20240602T132735Z
UID:4855-1719392400-1719406800@hilevelgc.com
SUMMARY:Senior Scramble League
DESCRIPTION:This fun drop in league is open to seniors 60 and over! Just $22 for greens fee and cart and $6 for prizes\, coffee and donuts! Be here by 8:30 to register for the blind draw! For more information call the pro shop at 814-797-1813
URL:https://hilevelgc.com/event/senior-scramble-league-76/
LOCATION:Hi-Level Golf Course\, 148 High Level Lane\, Kossuth\, PA\, 16331\, United States
END:VEVENT
BEGIN:VEVENT
DTSTART;TZID=America/New_York:20240627T080000
DTEND;TZID=America/New_York:20240627T173000
DTSTAMP:20260420T230409
CREATED:20240602T133601Z
LAST-MODIFIED:20240602T133601Z
UID:4863-1719475200-1719509400@hilevelgc.com
SUMMARY:Men’s League
DESCRIPTION:Call for tee times! \nOver 60 group plays 9 holes between 8:00 a.m.- 10:00 a.m. \nUnder 60 group plays front and back 9 between 3:30 p.m. and 5:30 p.m.
URL:https://hilevelgc.com/event/mens-league-40/
LOCATION:Hi-Level Golf Course\, 148 High Level Lane\, Kossuth\, PA\, 16331\, United States
END:VEVENT
BEGIN:VEVENT
DTSTART;TZID=America/New_York:20240630T090000
DTEND;TZID=America/New_York:20240630T133000
DTSTAMP:20260420T230409
CREATED:20240602T151434Z
LAST-MODIFIED:20240602T151434Z
UID:4899-1719738000-1719754200@hilevelgc.com
SUMMARY:Pam Winger Heath Memorial golf outing
DESCRIPTION:
URL:https://hilevelgc.com/event/pam-winger-heath-memorial-golf-outing/
LOCATION:Hi-Level Golf Course\, 148 High Level Lane\, Kossuth\, PA\, 16331\, United States
END:VEVENT
BEGIN:VEVENT
DTSTART;TZID=America/New_York:20240701T170000
DTEND;TZID=America/New_York:20240701T190000
DTSTAMP:20260420T230409
CREATED:20240629T145529Z
LAST-MODIFIED:20240629T145529Z
UID:4918-1719853200-1719860400@hilevelgc.com
SUMMARY:Trixx 2 man Scramble
DESCRIPTION:Event is full
URL:https://hilevelgc.com/event/trixx-2-man-scramble/
LOCATION:Hi-Level Golf Course\, 148 High Level Lane\, Kossuth\, PA\, 16331\, United States
END:VEVENT
BEGIN:VEVENT
DTSTART;TZID=America/New_York:20240703T090000
DTEND;TZID=America/New_York:20240703T130000
DTSTAMP:20260420T230409
CREATED:20240629T183810Z
LAST-MODIFIED:20240629T183810Z
UID:4926-1719997200-1720011600@hilevelgc.com
SUMMARY:Senior Scramble League
DESCRIPTION:This fun drop in league is open to seniors 60 and over! Just $22 for greens fee and cart and $6 for prizes\, coffee and donuts! Be here by 8:30 to register for the blind draw! For more information call the pro shop at 814-797-1813
URL:https://hilevelgc.com/event/senior-scramble-league-77/
LOCATION:Hi-Level Golf Course\, 148 High Level Lane\, Kossuth\, PA\, 16331\, United States
END:VEVENT
BEGIN:VEVENT
DTSTART;TZID=America/New_York:20240704T073000
DTEND;TZID=America/New_York:20240704T170000
DTSTAMP:20260420T230409
CREATED:20240629T145407Z
LAST-MODIFIED:20240629T145407Z
UID:4916-1720078200-1720112400@hilevelgc.com
SUMMARY:Fourth of July
DESCRIPTION:Call for tee times
URL:https://hilevelgc.com/event/fourth-of-july/
LOCATION:Hi-Level Golf Course\, 148 High Level Lane\, Kossuth\, PA\, 16331\, United States
END:VEVENT
BEGIN:VEVENT
DTSTART;TZID=America/New_York:20240705T100000
DTEND;TZID=America/New_York:20240705T110000
DTSTAMP:20260420T230409
CREATED:20240629T145303Z
LAST-MODIFIED:20240629T145303Z
UID:4914-1720173600-1720177200@hilevelgc.com
SUMMARY:P Belly Open
DESCRIPTION:Private Group. Call for tee times
URL:https://hilevelgc.com/event/p-belly-open-4/
LOCATION:Hi-Level Golf Course\, 148 High Level Lane\, Kossuth\, PA\, 16331\, United States
END:VEVENT
BEGIN:VEVENT
DTSTART;TZID=America/New_York:20240706T090000
DTEND;TZID=America/New_York:20240706T133000
DTSTAMP:20260420T230409
CREATED:20240629T144822Z
LAST-MODIFIED:20240629T144822Z
UID:4908-1720256400-1720272600@hilevelgc.com
SUMMARY:Chase Longo Memorial Scramble
DESCRIPTION:
URL:https://hilevelgc.com/event/chase-longo-memorial-scramble/
LOCATION:Hi-Level Golf Course\, 148 High Level Lane\, Kossuth\, PA\, 16331\, United States
END:VEVENT
BEGIN:VEVENT
DTSTART;TZID=America/New_York:20240707T090000
DTEND;TZID=America/New_York:20240707T133000
DTSTAMP:20260420T230409
CREATED:20240629T145111Z
LAST-MODIFIED:20240629T145111Z
UID:4911-1720342800-1720359000@hilevelgc.com
SUMMARY:Cranberry Baseball Scramble
DESCRIPTION:
URL:https://hilevelgc.com/event/cranberry-baseball-scramble/
LOCATION:Hi-Level Golf Course\, 148 High Level Lane\, Kossuth\, PA\, 16331\, United States
END:VEVENT
BEGIN:VEVENT
DTSTART;TZID=America/New_York:20240710T090000
DTEND;TZID=America/New_York:20240710T130000
DTSTAMP:20260420T230409
CREATED:20240629T183926Z
LAST-MODIFIED:20240629T183926Z
UID:4928-1720602000-1720616400@hilevelgc.com
SUMMARY:Senior Scramble League
DESCRIPTION:This fun drop in league is open to seniors 60 and over! Just $22 for greens fee and cart and $6 for prizes\, coffee and donuts! Be here by 8:30 to register for the blind draw! For more information call the pro shop at 814-797-1813
URL:https://hilevelgc.com/event/senior-scramble-league-78/
LOCATION:Hi-Level Golf Course\, 148 High Level Lane\, Kossuth\, PA\, 16331\, United States
END:VEVENT
BEGIN:VEVENT
DTSTART;TZID=America/New_York:20240710T130000
DTEND;TZID=America/New_York:20240710T170000
DTSTAMP:20260420T230409
CREATED:20240629T145723Z
LAST-MODIFIED:20240629T151205Z
UID:4920-1720616400-1720630800@hilevelgc.com
SUMMARY:Bidwell group/Shriner Group
DESCRIPTION:Call for tee times
URL:https://hilevelgc.com/event/bidwell-group-shriner-group/
LOCATION:Hi-Level Golf Course\, 148 High Level Lane\, Kossuth\, PA\, 16331\, United States
END:VEVENT
BEGIN:VEVENT
DTSTART;TZID=America/New_York:20240711T090000
DTEND;TZID=America/New_York:20240711T100000
DTSTAMP:20260420T230409
CREATED:20240629T150657Z
LAST-MODIFIED:20240629T150657Z
UID:4922-1720688400-1720692000@hilevelgc.com
SUMMARY:Bidwell group
DESCRIPTION:Call for tee times
URL:https://hilevelgc.com/event/bidwell-group-7/
LOCATION:Hi-Level Golf Course\, 148 High Level Lane\, Kossuth\, PA\, 16331\, United States
END:VEVENT
BEGIN:VEVENT
DTSTART;TZID=America/New_York:20240712T090000
DTEND;TZID=America/New_York:20240712T100000
DTSTAMP:20260420T230409
CREATED:20240629T150843Z
LAST-MODIFIED:20240629T150843Z
UID:4924-1720774800-1720778400@hilevelgc.com
SUMMARY:Bidwell group
DESCRIPTION:Bidwell group 9am shotgun. Call for tee times.
URL:https://hilevelgc.com/event/bidwell-group-8/
LOCATION:Hi-Level Golf Course\, 148 High Level Lane\, Kossuth\, PA\, 16331\, United States
END:VEVENT
BEGIN:VEVENT
DTSTART;TZID=America/New_York:20240713T090000
DTEND;TZID=America/New_York:20240713T133000
DTSTAMP:20260420T230409
CREATED:20240713T133809Z
LAST-MODIFIED:20240713T133809Z
UID:4948-1720861200-1720877400@hilevelgc.com
SUMMARY:Cheryl Phythyon Memorial Scholarship Golf Outing
DESCRIPTION:For more information call 724-290-1407
URL:https://hilevelgc.com/event/cheryl-phythyon-memorial-scholarship-golf-outing/
LOCATION:Hi-Level Golf Course\, 148 High Level Lane\, Kossuth\, PA\, 16331\, United States
END:VEVENT
BEGIN:VEVENT
DTSTART;TZID=America/New_York:20240714T090000
DTEND;TZID=America/New_York:20240714T130000
DTSTAMP:20260420T230409
CREATED:20240629T185027Z
LAST-MODIFIED:20240629T185027Z
UID:4940-1720947600-1720962000@hilevelgc.com
SUMMARY:Keystone Golf Boosters Bad Pants Scramble
DESCRIPTION:
URL:https://hilevelgc.com/event/keystone-golf-boosters-bad-pants-scramble/
LOCATION:Hi-Level Golf Course\, 148 High Level Lane\, Kossuth\, PA\, 16331\, United States
END:VEVENT
BEGIN:VEVENT
DTSTART;TZID=America/New_York:20240717T090000
DTEND;TZID=America/New_York:20240717T130000
DTSTAMP:20260420T230409
CREATED:20240629T184039Z
LAST-MODIFIED:20240629T184039Z
UID:4930-1721206800-1721221200@hilevelgc.com
SUMMARY:Senior Scramble League
DESCRIPTION:This fun drop in league is open to seniors 60 and over! Just $22 for greens fee and cart and $6 for prizes\, coffee and donuts! Be here by 8:30 to register for the blind draw! For more information call the pro shop at 814-797-1813
URL:https://hilevelgc.com/event/senior-scramble-league-79/
LOCATION:Hi-Level Golf Course\, 148 High Level Lane\, Kossuth\, PA\, 16331\, United States
END:VEVENT
BEGIN:VEVENT
DTSTART;TZID=America/New_York:20240718T080000
DTEND;TZID=America/New_York:20240718T170000
DTSTAMP:20260420T230409
CREATED:20240713T152636Z
LAST-MODIFIED:20240713T152636Z
UID:4950-1721289600-1721322000@hilevelgc.com
SUMMARY:Men’s League
DESCRIPTION:Call for tee times! \nOver 60 group plays 9 holes between 8:00 a.m.- 10:00 a.m. \nUnder 60 group plays front and back 9 between 3:30 p.m. and 5:30 p.m.
URL:https://hilevelgc.com/event/mens-league-41/
LOCATION:Hi-Level Golf Course\, 148 High Level Lane\, Kossuth\, PA\, 16331\, United States
END:VEVENT
END:VCALENDAR