BEGIN:VCALENDAR
VERSION:2.0
PRODID:-//Hi-Level Golf Course - ECPv5.16.3.1//NONSGML v1.0//EN
CALSCALE:GREGORIAN
METHOD:PUBLISH
X-WR-CALNAME:Hi-Level Golf Course
X-ORIGINAL-URL:https://hilevelgc.com
X-WR-CALDESC:Events for Hi-Level Golf Course
REFRESH-INTERVAL;VALUE=DURATION:PT1H
X-Robots-Tag:noindex
X-PUBLISHED-TTL:PT1H
BEGIN:VTIMEZONE
TZID:America/New_York
BEGIN:DAYLIGHT
TZOFFSETFROM:-0500
TZOFFSETTO:-0400
TZNAME:EDT
DTSTART:20250309T070000
END:DAYLIGHT
BEGIN:STANDARD
TZOFFSETFROM:-0400
TZOFFSETTO:-0500
TZNAME:EST
DTSTART:20251102T060000
END:STANDARD
END:VTIMEZONE
BEGIN:VEVENT
DTSTART;TZID=America/New_York:20250725T080000
DTEND;TZID=America/New_York:20250725T170000
DTSTAMP:20260419T132919
CREATED:20250725T004936Z
LAST-MODIFIED:20250725T004936Z
UID:5445-1753430400-1753462800@hilevelgc.com
SUMMARY:Call for tee times
DESCRIPTION:Please call for tee times! We have multiple groups scheduled for the morning!
URL:https://hilevelgc.com/event/call-for-tee-times-14/
LOCATION:Hi-Level Golf Course\, 148 High Level Lane\, Kossuth\, PA\, 16331\, United States
END:VEVENT
BEGIN:VEVENT
DTSTART;TZID=America/New_York:20250725T173000
DTEND;TZID=America/New_York:20250725T193000
DTSTAMP:20260419T132919
CREATED:20250725T004802Z
LAST-MODIFIED:20250725T004802Z
UID:5442-1753464600-1753471800@hilevelgc.com
SUMMARY:Couple’s Scramble
DESCRIPTION:
URL:https://hilevelgc.com/event/couples-scramble-6/
LOCATION:Hi-Level Golf Course\, 148 High Level Lane\, Kossuth\, PA\, 16331\, United States
END:VEVENT
END:VCALENDAR